BEGIN:VCALENDAR
VERSION:2.0
PRODID:spatie/icalendar-generator
BEGIN:VEVENT
UID:ffc5aea4-13e4-4746-8b8f-4a4876fd519a
DTSTAMP:20260420T091123Z
SUMMARY:Munadjat Yulchieva (Usbekistan): Stimmliches Weltkulturerbe aus Zen
 tralasien
DESCRIPTION:Die führende Vertreterin der klassischen Usbekischen Musik und
  seiner persischen Verwandten Shashmaqâm ist Munadjat Yulchieva\, die 196
 0 in der Nähe der Hauptstadt Taschkent geboren wurde. Der volle Klang und
  erstaunliche Umfang ihrer ungewöhnlich starken und schönen Stimme erlau
 ben der Sängerin Lieder\, die klassisch Männern vorbehalten sind\, in ih
 r Repertoire aufzunehmen. Viele der Stücke sind Kompositionen ihres Lehrm
 eisters Shawqat Mirzaev\, zumeist tritt Yulchieva auch mit dem Ensemble di
 eses berühmten Rubab-Spielers auf - begleitet von alten Instrumenten wie 
 der zweisaitigen Laute Dutar oder der Rahmentrommel Doira. Glücklich kann
  sich schätzen\, wer eines der raren Konzerte in unseren Breiten besucht 
 und eine virtuose Künstlerin in prächtigen Kleidern mit hüftlangen Zöp
 fen erleben darf\, die mit Erhabenheit und Charisma verblüfft. Yulchievas
  außerordentliches Talent war bereits in jungen Jahren offenkundig und h
 ätte sie beinahe aufs Opernfach festgelegt. Doch unbeirrbar zog es sie zu
  der langsamen\, schmerzlichen Musiktradition ihrer eigenen Kultur - was s
 chon durch ihren Namen vorherbestimmt zu sein scheint\, meint er doch \"Au
 fstieg zu Gott\" oder einfach \"Gebet\". Die Ausnahmekünstlerin sagt übe
 r sich selber\, ihr Gesang muss aus der Seele und dem Herzen kommen. Die f
 rühere Sowjetische Republik Usbekistan liegt im Herzen von Zentralasien z
 wischen Kasachstan und Turkmenistan. Die reiche Geschichte dieses Gebiets 
 hat sich in der traditionellen Musik niedergeschlagen\, die im Rhythmus\, 
 der Verwendung von Sufi-Dichtung sowie dem klassischem Maqam-Repertoire st
 arke Verbindungen zu persischen und arabischen Elementen aufweist. Bis heu
 te beeinflusst sie die KünstlerInnen zeitgenössischer Musik diese alten 
 Traditionen weiterzuentwickeln.\n\nMunojatkhon YULCHIEVA - Stimme\nShavkat
  MUKHAMEDOV - Rubab\nKhodjimurad SAFAROV - Doira\nDilfuza KHAYDAROVA - Dut
 ar\n\nIn Kooperation mit Salam Orient
LOCATION:
DTSTART:20101103T200000
DTEND:20101103T210000
END:VEVENT
END:VCALENDAR