BEGIN:VCALENDAR
VERSION:2.0
PRODID:spatie/icalendar-generator
BEGIN:VEVENT
UID:fdceac74-bc71-48ea-ad03-9615521585ab
DTSTAMP:20260420T090503Z
SUMMARY:NU (Deutschland) und MEDUOTERAN (Serbien\, Türkei): Jiddische Lied
 er vom Rande der Wirklichkeit und versierte Authentizität
DESCRIPTION:Nu Georg BRINKMANN - Klarinetten\, Stimme Franka LAMPE - Akkord
 eon Die Füße auf dem Boden\, der Kopf im Himmel - die Fest- und Ritualmu
 sik der Ostjuden ist ein Erlebnis für Beine\, Ohren und Herz. Eine Musik\
 , die seit Jahrhunderten modern ist\, eine Musik\, die erzählt und zum Ta
 nzen auffordert. Mit Leib und Seele haben sich die international renommier
 ten MusikerInnen dem Klezmer verschrieben und begeistern auf Festivals\, K
 onzerten und Workshops ein wachsendes Publikum. In der intimen Duo-Besetzu
 ng und ihrem überaus temperamentvollen Zusammenwirken erhält die kraftvo
 lle Musik einen ganz unwiderstehlichen Reiz. Die Kompositionen und Improvi
 sationen der beiden haben raumfüllenden Effekt\, oszillieren zwischen üb
 ermütiger Vitalität und melancholischer Tristesse. Da fliegen im Geben\,
  Nehmen und Weiterspinnen die Finger behände über die Instrumente\, \"da
 s Akkordeon fängt die Klarinettentöne souverän ein\, variiert\, improvi
 siert mit der rechten Hand\, während die linke wuchtige Bässe aus dem sc
 hwarzen Kasten drückt. Ungewöhnliche rhythmische Muster treten dabei zu 
 Tage\, die Klänge verschmelzen\" (Rheinische Post). Virtuos und eindrucks
 voll holen die beiden aus ihren Instrumenten alles heraus und entzünden e
 in wahrhaft musikalisches Feuerwerk! Meduoteran Srdjan VUKASINOVIC - Akkor
 deon Taylan ARIKAN - Baglama\, Stimme Das Duo steht für musikalische Auth
 entizität und Innovation wie sie heute nur selten in dieser reduzierten u
 rtümlichen und doch versierten Form erklingt. Taylan Arikan und Srdjan Vu
 kasinovic beschränken sich auf die Ausdruckskraft ihrer zwei Instrumente 
 und trotzen Baglama (anatolische Laute) und Akkordeon Klangwelten ab\, die
  man diesen nicht zuordnen würde. Eine Hingabe\, die soweit geht\, dass V
 ukasinovic bereits mit einem weltbekannten Hersteller an der Entwicklung e
 ines Akkordeons arbeitet\, das in verschiedenen Stimmungen spielbar ist! G
 elegentlich kommentiert Arikan die Stücke mit Vokalpassagen und huldigt s
 o der Bardentradition seiner Väter Kleinasiens. Die Arrangements der beid
 en verbinden klassische Elemente mit folkloristischen Einlagen und trotzig
 em Jazz - eine Mischung\, wie es sie noch nicht gibt. Entdeckenswert! Ihre
  erste CD \"Horon\" ist 2006 erschienen. Im Rahmen des \"Int. Akkordeonfes
 tival 08\" [Hörprobe Nu als swf](../docs/veranstaltungen/sounds/08/Track0
 3.swf) [Hörprobe Meduoteran als swf](../docs/veranstaltungen/sounds/08/Tr
 ack02.swf) Weitere Informationen: [www.appassionata.ch](http://www.meduote
 ran.com>www.meduoteran.com</a></i>\n<i><a href=)
LOCATION:
DTSTART:20080306T200000
DTEND:20080306T210000
END:VEVENT
END:VCALENDAR