BEGIN:VCALENDAR
VERSION:2.0
PRODID:spatie/icalendar-generator
BEGIN:VEVENT
UID:fd02cdb0-4570-454d-9fd3-41e7e78266cf
DTSTAMP:20260424T120247Z
SUMMARY:Eldis La Rosa & Colores (CU\, TWN\, BG\, A)
DESCRIPTION:Vor mehr als zwanzig Jahren kam der Komponist und Multiinstrume
 ntalist Eldis La Rosa nach Wien\, den rhythmischen Reichtum seiner Heimat 
 Kuba im Koffer. Mit seinem Quartett „Colores“ vereint er Jazz\, Klassi
 k und Weltmusik zu einer einzigartigen Klangfusion.\nMit „Tiptoe walking
 “ haben die vier Musiker:innen aus vier verschiedenen Musikwelten ein au
 ßergewöhnliches und genreübergreifendes Debütalbum vorgelegt. Ein einf
 ühlsamer musikalischer Spaziergang. Im warmen und klaren Sound finden die
  instrumentalen Eigenheiten und die Persönlichkeiten aller Bandmitglieder
  Raum.\n\n„Man sagt\, Musik sei eine universelle Sprache. Wenn man Eldis
  La Rosa und seine Band Colores hört\, scheint die Welt der Klänge tats
 ächlich grenzenlos zu sein.“ (Dietmar Petschl\, kulturMontag\, 2021)\n\
 nEldis La Rosa - Saxophon\, Flöte\, Perkussion\, Stimme\, Chiao-Hua Chang
  - Erhu (Chinesische Violine)\, Stimme\, Kaja Wlostowska - Vibraphon\, Vic
 toria Kirilova - Bass
LOCATION:
DTSTART:20230427T193000
DTEND:20230427T203000
END:VEVENT
END:VCALENDAR