BEGIN:VCALENDAR
VERSION:2.0
PRODID:spatie/icalendar-generator
BEGIN:VEVENT
UID:fc8d68d6-1252-47d2-85b9-15234a7c9e41
DTSTAMP:20260425T021557Z
SUMMARY:Katalena (SLO)
DESCRIPTION:Die sechsköpfige Band Katalena schöpft ihre Inspiration aus d
 em Erbe der slowenischen Volksmusik\, die sie jedoch nach ihren eigenen ä
 sthetischen Vorstellungen und Vorlieben interpretiert und aufführt. Grund
 lage ihres Schaffens ist die Überzeugung von der Zeitlosigkeit traditione
 ller Musik\, die laut den Bandmitgliedern auch heute noch in den jungen Ge
 nerationen lebendig ist – nicht als ein verloren geglaubtes Relikt\, son
 dern als eine vitale Tradition.\n\nKatalena bemühen sich\, dieses musikal
 ische Erbe mit neuer Energie zu beleben\, dabei ideologische Konnotationen
  abzustreifen und der Spielfreude und den eingängigen Rhythmen der Musik 
 freien Lauf zu lassen.\n\nDas Sextett hat fast in jedem Club\, Konzertsaal
  und auf jeder Festivalbühne des Landes gespielt und war auch schon weltw
 eit unterwegs – mit Auftritten in den USA\, Israel und ganz Europa. Im J
 uni 2021 veröffentlichten sie ihr neuntes Album „Kužne pesmi/The Plagu
 e Songs“.\n\nVesna Zornik - Stimme\, Polona Janežič - Keyboards\, Back
 ing Vocals\, Boštjan Gombač - Klarinette\, Saxophone\, Flügelhorn\, The
 remin\, Ukulele\, Blechflöte\, Schnabelflöte\, Posaune\, Backing Vocals\
 , Boštjan Narat - Gitarre\, Backing Vocals\, Jelena Ždrale - Violine\, V
 iola\, Backing Vocals\, Tibor Mihelič Syed - Bass\, Gimbri\, Ukulele\, Ro
 land HPD 20\, Gitarre\, Backing Vocals\, \, Robert Rebolj - Schlagzeug\, P
 erkussion\n\n[Katalena - music band](https://www.katalena.net/)\n\nMit fre
 undlicher Unterstützung von: [SKICA](https://skica.at/Skica#Vormerken)
LOCATION:
DTSTART:20250424T193000
DTEND:20250424T203000
END:VEVENT
END:VCALENDAR