BEGIN:VCALENDAR
VERSION:2.0
PRODID:spatie/icalendar-generator
BEGIN:VEVENT
UID:f7edb474-ccbb-497a-93a1-2c1f413723ba
DTSTAMP:20260424T165522Z
SUMMARY:Mäuschen Max verschenkt die Welt: Ensemble klangmemory
DESCRIPTION:Eine klingende Geburtstagsgeschichte\, inspiriert durch Musik v
 on Joseph und Michael Haydn. Für Kinder von 0 bis 7 Jahren.\n\nAn einem w
 underbar sonnigen Frühlingstag\, die ganze Mäusefamilie sitzt gerade be
 im Frühstück\, erzählt Mama Maus den Mäusekindern Max und Miriam\, das
 s ihre geliebte Oma Mia bald Geburtstag hat. Und zur großen Freude der be
 iden Enkelmäuse kommt die Oma-Maus am Sonntag zu Besuch. Sofort beginnt d
 ie Mäusefamilie das Oma-Maus-Geburtstagsfest zu planen. Das kleine Mäuse
 haus wird vorbereitet. Es wird geputzt und aufgeräumt. Alles soll glänze
 n und duften. Oma Mia’s Lieblingsnusstorte wird gebacken und die besten 
 Kräuter für den Mäusetee werden gesucht. Alles ist perfekt\, so findet 
 Max!\nNur eines fehlt für seine geliebte Omama: Das beste und größte u
 nd schönste Geschenk der Welt.\n\nVeranstaltungen zu Mäuschen Max sind M
 itmachkonzerte für Kinder von 0 bis 7 Jahren und ihre Vertrauenspersonen.
 \n\nChristina Foramitti - Gesang\, Klavier\, Cembalo\, Querflöte\, Akkord
 eon\, Blockflöte\, Gitarre\, Perkussion\, Peter Groißböck - Gesang\, Gi
 tarre\, Bassgitarre\, Ukulele\, Perkussion\, Irene Narnhofer - Bratsche\, 
 Geige\, Blockflöte\, Maultrommel\, Percussion\, Okarina\, Gregor Narnhofe
 r - Klarinette\, Bassklarinette\, Melodika\, Okarina\n\nhttps://www.maeusc
 henmax.at/
LOCATION:
DTSTART:20250612T104500
DTEND:20250612T114500
END:VEVENT
END:VCALENDAR