BEGIN:VCALENDAR
VERSION:2.0
PRODID:spatie/icalendar-generator
BEGIN:VEVENT
UID:f7bba7ff-5417-4237-a8f6-1044ffb1076c
DTSTAMP:20260421T010657Z
SUMMARY:Vernissage: Veranstaltungsreihe: \"Der öffentliche und der private
  Körper\"
DESCRIPTION:Vernissage. Weitere Informationen werden bald hier veröffentli
 cht.
LOCATION:
DTSTART:20260512T190000
DTEND:20260512T235900
END:VEVENT
END:VCALENDAR