BEGIN:VCALENDAR
VERSION:2.0
PRODID:spatie/icalendar-generator
BEGIN:VEVENT
UID:f0a6e2d8-4b4a-4c4d-9339-dd8f8b3a4aed
DTSTAMP:20260420T091755Z
SUMMARY:IVO PAPASOV & ZIG ZAG TRIO (Bulgarien): Ekstatisch\, virtuos und sc
 helmisch verspielt
DESCRIPTION:Ivo PAPASOV - Klarinette Petar RALCHEV - Akkordeon Ateshgan YUS
 EINOV - Midi-Gitarre Stoyan YANKOULOV - Schlagzeug\, Perkussion\, Tupan En
 de der 80er Jahre löste der thrakische Teufelsklarinettist in diversen we
 stlichen Musikszenen einige Verwirrung aus\, von der sie sich bis jetzt no
 ch nicht ganz erholt haben. FolkpuristInnen waren entsetzt über die scham
 losen Jazzimprovisationen\, die er in traditionelle Tänze so mir nichts\,
  dir nichts einflocht. Das Jazzestablishment\, das gegenüber \"ethnischer
  Musik\" damals noch immer gerne die Nase rümpfte\, kannte sich gar nicht
  mehr aus. Was war diese heiße Höllenmusik\, die mit ihrer komplexen Rhy
 thmik\, wilden Melodik und lebensbejahenden Kraft westlich geschulten Musi
 kerInnen die Schweißperlen auf die Stirn trieb? Bio-Bebop oder tatsächli
 ch traditionelle Musik? Die Antwort: beides. 2005 wurde Papasov vom Publik
 um mit dem BBC Audience Award für World Music geehrt. Ob Frank Zappa\, Pa
 pasov-Fan der ersten Stunde\, seine Stimme aus dem Paradies abgab\, wissen
  wir nicht. Bereits 1974 legte der türkisch-bulgarische Romamusiker mit s
 einem Trakia Ensemble die Grundfeste für jenen bulgarischen Sonderweg\, d
 er in Musikern wie dem Akkordeonisten Petar Ralchev\, dem Gitarristen Ates
 hgan Yuseinov und Percussionwunder Stoyan Yankoulov drei weitere Pioniere 
 finden sollte. Einer fulminanten Ethno-Jazz-Fusion\, die den Widerspruch z
 wischen bodenständiger Volksmusik und urbaner Modernität ein für alle M
 al der Vergangenheit angehören ließ. Nicht von ungefähr bilden Letztgen
 annte das Zig Zag Trio\, mit dem Papasov schon einmal die Sargfabrik beehr
 t hat. Es darf erneut ein sinnliches Musikerlebnis voll ekstatischem Über
 schwang\, ausgefuchster Virtuosität und dennoch schelmischer Verspielthei
 t erwartet werden\, dargeboten von wahrscheinlich vier der besten Instrume
 ntalisten unserer Zeit. In Zusammenarbeit mit dem Festival \"Balkan Fever\
 " [Hörprobe als mp3](../docs/veranstaltungen/sounds/07/Track02.mp3)
LOCATION:
DTSTART:20070503T200000
DTEND:20070503T210000
END:VEVENT
END:VCALENDAR