BEGIN:VCALENDAR
VERSION:2.0
PRODID:spatie/icalendar-generator
BEGIN:VEVENT
UID:f091a3f0-05b9-4c10-8b62-862239756be0
DTSTAMP:20260421T094005Z
SUMMARY:Gazelle & The Bear (AT): reihe X
DESCRIPTION:Eintritt: € 22 / € 15\,50 (U30)\n\nDas Konzert musste vom 2
 8.9. auf den 8.10. verschoben werden. Bereits gekaufte Tickets behalten ih
 re Gültigkeit.\n\nInes Kolleritsch und Julian Berann sind Gazelle & The B
 ear. Das Songwriting-Duo stellt ihr Debüt „Weird Shaped Clouds“ vor u
 nd zeigt\, was 2021 bringen kann: ein spannendes Stück Musik\, das Pop\, 
 Modern Jazz und Hip Hop verspielt miteinander kombiniert. Es geht um Selbs
 tliebe\, Auseinandersetzungen und dem ewigen Tanz zwischen wollen\, müsse
 n und der ehrlichen Begegnung trotz allem. Im gemeinsamen\, kreativen Scha
 ffensprozess ist hier ein intimer Raum entstanden\, der sich wie eine warm
 e Klangwolke um die Ohren der Zuhöher*innen legt. Ein Spiel zwischen Komp
 lexität und Simplizität.\n\nInes Kolleritsch - Gesang\, Keyboards\, Juli
 an Berann - Schlagzeug\, Gesang
LOCATION:
DTSTART:20211008T193000
DTEND:20211008T203000
END:VEVENT
END:VCALENDAR