BEGIN:VCALENDAR
VERSION:2.0
PRODID:spatie/icalendar-generator
BEGIN:VEVENT
UID:ee7675d7-7a20-45ab-a10f-5b6decbcf64c
DTSTAMP:20260420T131426Z
SUMMARY:Savina Yannatou & Primavera en Salonico (Griechenland): Veredelte T
 radition
DESCRIPTION:Eine neue griechische Göttin des Gesangs. Die Musikkritik übe
 rbietet sich seit Jahren\, um schließlich doch vor dieser Stimme zu kapit
 ulieren: \"Savina sang like the angels. Like the nightingales. I have no w
 ords to describe it.\"... Savina Yannatous Stimme und Gestaltungskraft sin
 d wirklich ein außerordentliches Geschenk. (Jazz Podium) Savina Yannatou
 ’s dark\, sweet voice suggested the glimmer of the first star at dusk. (
 New York Times) Savina Yannatou ist eine jener äußerst seltenen Sängeri
 nnen\, deren Individualität in jedem Genre brilliert\, sich jedoch nicht 
 vor ihr musikalisches Material drängt\, wenn sie sich uralter Liedtraditi
 onen annimmt. Diese werden nicht an den in Griechenland populären Popfolk
  verraten\, auch nicht an ethnologischen Akademismus\, sondern durch behut
 same Innovation zu ewiger Gültigkeit veredelt. Mit ihrem Ensemble Primave
 ra en Salonico erschloss sie sich eine panmediterran-orientalische Musiksp
 rache - vom Melos spanischer und italienischer Songs bis zu den modalen Ma
 qams des Vorderen Orients\, von den ungeraden Rhythmen und Polyphonien des
  Balkans über Rebetiko und spanisch-sephardische Lieder Salonikis bis zu 
 den Mughams Aserbeidschans und noch östlicherer Regionen. Zugute kommt ih
 r dabei ihre Erfahrung in Alter Musik und Jazz\, die auch ihr großartiges
  Ensemble unter Leitung von Kostas Vomvolos auszeichnet. Savina Yannatou s
 tudierte Gesang am Nationalkonservatorium in Athen und später an der Guil
 dhall School of Music and Drama in London. Ihre musikalische Karriere star
 tete sie 1979. Es war nur eine Frage der Zeit\, dass diese sowohl bewahren
 de als auch experimentelle Musikerin mit ihrem ätherischen und doch vital
 en Stimm- und Bandsound ins \"Imperium\" von Manfred Eichers Label ECM ein
 trat\, auf welchem sie seit Jahren ihre von der Kritik ausnahmslos bewunde
 rten CDs veröffentlicht. Savina Yannatou bildet übrigens ein reguläres 
 Duo mit dem österreichischen Saxofonisten Gerald Preinfalk.\n\nSavina YAN
 NATOU - Stimme\nKostas VOMVOLOS - Kanunaki\, Arrangements\nYannis ALEXANDR
 IS - Oud\, Gitarre\nMichalis SIGANIDIS - Kontrabass\nKyriakos GOUVENTAS- V
 ioline\, Viola\nKostas THEODOROU - Perkussion\nHaris LAMBRAKIS - Nay\, Fl
 öten\n\nIn Kooperation mit Balkan Fever Festival 2010
LOCATION:
DTSTART:20100506T200000
DTEND:20100506T210000
END:VEVENT
END:VCALENDAR