BEGIN:VCALENDAR
VERSION:2.0
PRODID:spatie/icalendar-generator
BEGIN:VEVENT
UID:ec6eafca-4921-48d1-806e-39d83949e1da
DTSTAMP:20260420T090658Z
SUMMARY:OMER IHSAS & THE PEACE MESSENGERS (Sudan): Musikalischer Friedensbo
 tschafter
DESCRIPTION:Omer IHSAS - Komposition\, Stimme Omer KAFI - Rhythmusgitarre A
 bdol SHAFIA - E-Bass Alfatih MOHAMMED - Akkordeon Mousa Mohamed IBRAHIM - 
 Trompete Arwa Ahmed Elrabic HASSAN - Violine Mouawia ZAYED - Bongos Hatim 
 GISMALLA - Conga Hassan KHIDIR - Keyboard Nahid Abdolrasool Abballa AZRAG\
 , Nawal Awad Bushra GHAFUR - Stimme \"I am an artist and that is a tribe b
 y itself\" (Ich bin ein Künstler und das ist ein eigener Stamm) Der chari
 smatische Sänger und Komponist Omer Ihsas setzt sich seit 17 Jahren weltw
 eit für den Frieden ein. Der preisgekrönte Musiker aus der afrikanischen
  Krisenregion Darfur ist Frontman der 1992 gegründeten sudanesischen Band
  \"Peace Messengers\". Ihsas ist Pionier und Erfinder der vibrierenden \"M
 odern Sudanese Music\"\, die er vorzugsweise auf einem der ältesten arabi
 schen Musikinstrumente\, dem Oud komponiert und auf \"moderne\" Instrument
 e umsetzt. Die kraftvollen Kompositionen sprühen vor überschäumender Le
 bensfreude und berühren das Herz\, nicht weniger als die tiefgründigen T
 exte über Liebe\, Frieden und Tradition\, die von ihm oder Poeten seiner 
 Heimat stammen. Afrikanische traditionelle Rhythmen und arabische Tunes tr
 effen auf hypnotische Melodien und mitreißende Percussionelemente\, die s
 elbst den größten Tanzmuffel zur Bewegung verführen. Über die Konzerte
  hinaus wirkt Ihsas in seiner Heimat als \"Artificial Ambassador\": Regelm
 äßig tritt er in Krisengebieten und den Camps von Darfur auf\, unterstü
 tzt NGOs bei ihrer Arbeit oder wird\, nicht zuletzt aufgrund seiner intell
 ektuellen Fähigkeiten und Feinsinnigkeit\, zu Friedensveranstaltungen ein
 geladen. Das begeisterte Publikum dankt es ihm bei seinen Konzerten stets 
 mit stürmischem Applaus und Standing Ovations. Wird wohl in der Sargfabri
 k nicht anders sein. In Kooperation mit dem Festival \"Salam Orient\" Acht
 ung: Es gibt nur eine begrenzte Anzahl von Sitzplätzen! [Hörprobe als mp
 3](../docs/veranstaltungen/sounds/0708/Track17.mp3)
LOCATION:
DTSTART:20071109T200000
DTEND:20071109T210000
END:VEVENT
END:VCALENDAR