BEGIN:VCALENDAR
VERSION:2.0
PRODID:spatie/icalendar-generator
BEGIN:VEVENT
UID:e72ec399-66ec-49b7-aa10-b2ba9f207f10
DTSTAMP:20260420T091608Z
SUMMARY:Soveles (A): Album Release
DESCRIPTION:Das Duo „Soveles“ (Jiddisch für „kleine Eulen“) ist ei
 n zweistimmiges a-capella Gesangsduo\, welches sich einem besonders intime
 n Genre verschrieben hat: dem unbegleiteten jiddischen Lied. Inspiriert vo
 n alten Archivaufnahmen von traditionellen Sänger:innen arrangieren Esthe
 r Wratschko und Isabel Frey gemeinsam jiddische Lieder mit Fokus auf Sozia
 lkritik\, Frauen- und Menschenrechte. Die beiden gebürtigen Wienerinnen v
 erbindet die jahrelange tiefgreifende Auseinandersetzung mit jiddischer Mu
 sik\, Sprache und Kultur.\n\nUnbegleitete jiddische Lieder sind eine Jahrh
 underte alte Tradition und behandeln dabei viele Themen\, die das alltägl
 iche Leben betreffen (Liebes-\, Wiegen-\, oder Arbeitslieder) aber auch po
 litische Themen\, die in der heutigen Zeit immer noch relevant sind. Tradi
 tionell werden diese Lieder einstimmig gesungen\, aber mit Soveles erschei
 nen die alten Volkslieder durch moderne und stilgerechte zweistimmige Arra
 ngements in einem neuen Glanz.\n\nEsther Wratschko - Stimme\, Isabel Frey 
 - Stimme\, Lili Weinhandl - Cello\n\nIn Koproduktion mit [KlezMORE Festiva
 l Vienna](http://klezmore-vienna.at/#data_abonnement=-1&data_year=2022&dat
 a_event_category=-1&searchTerm=&data_mode=DATE&data_pagenumber=0&page_head
 er=2022)
LOCATION:
DTSTART:20221116T193000
DTEND:20221116T203000
END:VEVENT
END:VCALENDAR