BEGIN:VCALENDAR
VERSION:2.0
PRODID:spatie/icalendar-generator
BEGIN:VEVENT
UID:e64fbc98-be5d-4c96-9410-de3d4e4a6251
DTSTAMP:20260421T094932Z
SUMMARY:S.O.D.A. (Österreich)
DESCRIPTION:Eintritt: € 18 / erm. € 12\n\nDie Rede von der „Neuerfind
 ung“ geistert durch die Pop-Geschichte\, seitdem Kings und Madonnen alt 
 genug werden\, um nicht nur einen Trend\, sondern gleich mehrere mitzumach
 en.\n\nBöse Zungen behaupten\, „Neuerfindung“ sei lediglich die Forts
 etzung der Langeweile mit anderen Mitteln.\nAber es geht natürlich auch a
 nders. Wenn sich etwa in Wiens umtriebiger Musikerszene eine Band neuerfin
 det\, ist das erst einmal eine gute Sache. Denn anstatt sich aufzulösen u
 nd die Energien verpuffen zu lassen\, um wieder erfolglos ein anderes und 
 noch ein anderes Projekt zu gründen\, behauptet man den eigenen Beharrung
 swillen\, den einmal gefundenen Markennamen und das Projekt per se. Und mi
 tunter findet man tatsächlich auch noch den einen oder anderen neuen Ton.
 \nSo geschehen jetzt mit S.O.D.A. Das Quartett aus Wien kündigt einen Neu
 start an und hält doch am Namen\, den wichtigsten Mitgliedern und dem Mit
 einander der Band fest. Richtig „neu“\, so heißt es\, sei eigentlich 
 nur die Rückbesinnung auf alte Tugenden wie Interaktion und Improvisation
 . Also: Back to the roots\, zurück und zugleich vorwärts mit Nu Jazz Gro
 oves und Hooklines\, die sich in den Gehörgängen festsetzen. Das neue S.
 O.D.A. ist das alte S.O.D.A.\, nachdem es über sieben Brücken gegangen i
 st und wiedergetauft wurde. Oder andersrum: S.O.D.A. hat ein Identitätspr
 oblem gehabt – und es glorreich gelöst.\n\nLise Huber - Gesang\nJohanne
 s Specht - Gitarre\nAmirkasra Zandian - Persische Perkussion\nKonstantin K
 räutler - Schlagzeug\nOliver Steger - Bass
LOCATION:
DTSTART:20151202T200000
DTEND:20151202T210000
END:VEVENT
END:VCALENDAR