BEGIN:VCALENDAR
VERSION:2.0
PRODID:spatie/icalendar-generator
BEGIN:VEVENT
UID:e393ce43-cb0d-42f1-aed9-04050e94b7c9
DTSTAMP:20260421T083255Z
SUMMARY:Louise Jallu (FR)
DESCRIPTION:Das Konzert ist ausgebucht. Rest-Stehplätze an der Abendkasse.
 \n\nDie junge Französin Louise Jallu bringt frischen Wind in ein bislang 
 als Domäne der Männer geltendes Genre und erobert derzeit mit ihrem Quar
 tett und einem eigenwilligen Piazzolla-Programm die Bühnen.\n\nDas Bandon
 eon ist untrennbar mit dem Tango verbunden\, der folgerichtig auch Jallu a
 ls musikalische Basis dient. Kritisch und ohne Berührungsängste widmet s
 ie sich den Kompositionen von Astor Piazzolla\, dem „König des Tangos
 “ - sie verlangsamt das Tempo\, öffnet Räume für Improvisationen\, st
 rukturiert das thematische Material neu und setzt neue harmonische Wege fr
 ei.\n\nIhr letztes Album „Piazzolla 2021“ ist eine freie und abenteuer
 liche Variation der Musik des Meisters. Ihre Herangehensweise beschreibt s
 ie so: „Je tiefer man in Piazzollas Musik eintaucht\, desto bewusster wi
 rd einem\, dass man das Offensichtliche aufgeben und in seiner ‚geheimen
  Mechanik‘ - der ‚geheimen Mechanik‘ seiner Artikulationen\, seiner 
 rhythmischen Brüche\, seiner ständig gespannten und sich ausdehnenden Me
 lodien - neue Räume und andere mögliche Projektionen suchen muss.“\n\n
 Louise Jallu - Bandoneon\, Grégoire Letouvet - Klavier\, Karsten Hochapfe
 l - Gitarre\, Alexandre Perrot - Kontrabass\n\nIn Koproduktion mit dem [Ak
 kordeon Festival](https://akkordeonfestival.at/)
LOCATION:
DTSTART:20240314T193000
DTEND:20240314T203000
END:VEVENT
END:VCALENDAR