BEGIN:VCALENDAR
VERSION:2.0
PRODID:spatie/icalendar-generator
BEGIN:VEVENT
UID:dc95d15d-2a82-40cf-8a34-1324a7793fd2
DTSTAMP:20260420T131720Z
SUMMARY:Nawal (Komoren\, Frankreich): Die Stimme der Komoren
DESCRIPTION:Die von den Komoren (Inselstaat im Indischen Ozean) stammende N
 awal ist in vielen Belangen einzigartig. Die Sängerin und Komponistin wur
 de in eine Musiker-Familie hinein geboren\, in der Musik und Spiritualitä
 t stets zusammengehörten. Entgegen allen Traditionen wurde sie die erste 
 Frau der Komoren\, die mit eigenen Songs und eigener Band öffentlich auft
 rat. Die Musik von Nawal lebt durch eine kammermusikalische Qualität\, es
  ist nicht der Sound der Stadien und der Verstärker. Sie selber spielt di
 e Gambusi\, ein banjo-ähnliches Instrument\, die iranische Rahmentrommel 
 Daf oder Gitarre. Viele Melodien stammen aus dem islamisch arabischen Raum
 \, berufen sich auf die Trance-Tradition der Sufi\, doch beziehen sie alle
 s ein\, was die Sängerin in ihrer alten Heimat\, den Komoren und der neue
 n Heimat Frankreich an Einflüssen hört und erlebt.\n\nNawal MLANAO - Sti
 mme\, Gambusi\, Gitarre\, Daf\nClaudine FRANÇOIS - Klavier\nEkoue Jean Ba
 ptiste GBADOE - Perkussion\nAurore Voahangy CORITON - Perkussion\n\nIn Koo
 peration mit Salam.Orient
LOCATION:
DTSTART:20111019T200000
DTEND:20111019T210000
END:VEVENT
END:VCALENDAR