BEGIN:VCALENDAR
VERSION:2.0
PRODID:spatie/icalendar-generator
BEGIN:VEVENT
UID:da605709-cc71-4bb5-ae3f-9f505afff96a
DTSTAMP:20260420T090355Z
SUMMARY:Tantz (Großbritannien)
DESCRIPTION:Eintritt: € 24\n\nTantz gilt als eine der impulsivsten und in
 novativ-sten Klezmer-Bands Europas. Die Gruppe liefert eine schweißtreibe
 nde Show in traditionellem Genre. Mit ihrem neuartigen Hard Hitting Klezme
 r hat die Londoner Balkan-Gipsy-Band in den letzten Jahren die britische M
 usikszene gehörig aufgemischt. Ihre Bühnenshows versprühen eine unglaub
 liche Energie\, die einem Punkkonzert gleichen\, und ein sanftmütiges Wel
 tmusikpublikum in eine pogende Moshpit Menge verwandeln können.\n\nBen Da
 nzig – Gitarre\, Matt Holborn – Violine\, Pete Gavin – Bass\, Matt D
 avies – Schlagzeug\, Dwayne Kilvington – Perkussion\, Arran Kent – K
 larinette\n\nIn Koproduktion mit [KlezMore Festival 201](http://klezmore-v
 ienna.at/)8\n\nHinweis: begrenzte Sitzplätze
LOCATION:
DTSTART:20181122T193000
DTEND:20181122T203000
END:VEVENT
END:VCALENDAR