BEGIN:VCALENDAR
VERSION:2.0
PRODID:spatie/icalendar-generator
BEGIN:VEVENT
UID:da184e46-ab5b-4e77-a28b-1ddedf88f73d
DTSTAMP:20260420T092253Z
SUMMARY:SÖNDÖRGÖ & FERUS MUSTAFOV (Ungarn\, Mazedonien): Glücklicher st
 erben können
DESCRIPTION:Áron EREDICS - Lead-Tambura\, Litarka\, Darbuka\, Stimme Benj
 ámin EREDICS - Kontra-Tambura\, Karaduzen\, Stimme Salamon EREDICS - Alt-
 Tambura\, Akkordeon\, Frula\, Kaval\, Stimme Dávid EREDICS - Klarinette\,
  Tambura\, Saxophon\, Stimme Attika BUZÁC - Tamburabass\, Kontrabass Szlo
 bodán WERTETICS - Harmonika\, Akkordeon\, Tenor-Tambura\, Stimme Special 
 guest: Ferus MUSTAFOV - Saxophon\, Klarinette Die vier jungen Herren aus d
 em serbisch-jüdischen Eredics-Clan (plus ihrem Bassisten Buzás Attila un
 d Szlobodán Wertetics am Akkordeon) erspielen mit Enthusiasmus\, großer 
 kultureller Bildung\, aber auch einem coolen Image der südpannonischen Ta
 mbura-Tradition ihren verdienten Platz im Panoptikum der World-Music-Sensa
 tionen. 1995 formierten sich Söndörgö und beschlossen\, sich durch mode
 rne Ideen\, Arrangements und einem panbalkanisch-pannonischen Repertoire v
 on bloßer Lokalfolklore zu emanzipieren. Einige beachtete Filmsoundtracks
  und Kooperationen mit Vujicsics\, Márta Sebestyén u. a. festigten ihren
  Platz in der Oberliga einer multikulturellen ungarischen World-Szene. Sö
 ndörgö besonderes Interesse gilt aber der südlicheren Musik Mazedoniens
  und Bulgariens\, sie laden sich auch gerne Musiker von dort ein\, dieses 
 Mal sogar einen König. Und was für einen! \"Könnte ich den Mann mit gro
 ßer Besetzung doch nochmal live sehen\, ich könnte glücklicher sterben\
 ". Dies schrieb ein Musikkritiker über jenen Mann\, der in seiner Heimat 
 Mazedonien und von seiner Fangemeinde \"King\" Ferus genannt wird. \"King\
 " Ferus Mustafov teilt sich mit Ivo Papasov die Königswürde innerhalb de
 r südbalkanischen Wedding Music. Mazedonien ist ein einziger Melting Pot 
 der ethnischen Traditionen\, doch nirgends wird so heiß geschmolzen wie i
 n den Gypsy-Mahale wie Suto Orizari\, der größten Romasiedlung Europas. 
 Dort residiert King Ferus\, hat sein eigenes Studio und leitet ein Radiopr
 ogramm. Als er Mitte der 90er Jahre von der internationalen Szene entdeckt
  wurde\, war er lange schon eine jugoslawische Legende. Dass er seine Taks
 imi (Improvisationen) und ungeraden Coceks mit Jazzphrasierungen schmiert\
 , hat ihm hie und da den Unmut der PuristInnen eingetragen. Uns ist’s ge
 rade recht und bietet dem Wiener Publikum nun die Möglichkeit\, \"glückl
 icher sterben zu können\". Österreichpremiere In Zusammenarbeit mit dem 
 Festival \"Balkan Fever\" [Hörprobe Söndörgö als mp3](../docs/veransta
 ltungen/sounds/07/Track12.mp3) [Hörprobe Mustafov als mp3](../docs/verans
 taltungen/sounds/07/Track13.mp3)
LOCATION:
DTSTART:20070510T200000
DTEND:20070510T210000
END:VEVENT
END:VCALENDAR