BEGIN:VCALENDAR
VERSION:2.0
PRODID:spatie/icalendar-generator
BEGIN:VEVENT
UID:d9f4743b-cd99-4537-8e17-c7f2a5034a56
DTSTAMP:20260422T051702Z
SUMMARY:Nouvelle Cuisine Bigband (A): 40 und kein bisschen vulnerabel
DESCRIPTION:2025 feiert die Nouvelle Cuisine Bigband ihr 40-jähriges Beste
 hen! Die Band rund um die ungern als solche bezeichneten Chefköche Christ
 ian Mühlbacher und Christoph Cech ist längst eine Legende. Wer heute in 
 Österreich als Jazzbläser:in Rang und Namen hat\, hat irgendwann bei Nou
 velle Cuisine gespielt – oder tut es immer noch.\n\nMit AWCMBTÖ (AltWei
 ßCisMännerBigbandTraditionsÖdnis) hat das hier garantiert nichts zu tun
 . Funk\, Groove und die zukunftsweisende Anwendung der großen Arrangiertr
 adition – daran führt auch heute kein Weg vorbei\, wie selbst die frisc
 hfleischverwöhnten Rezensent:innen und Redakteur:innen zugeben müssen.\n
 \nZum 40er sich die Bigband selbst und ihrem Publikum ein Geschenk: wenige
 r rar\, mehr präsent\, mit druckvollen und spannenden Konzertabenden\, di
 e zeigen\, dass Nouvelle Cuisine nicht älter\, sondern besser geworden is
 t.\n\nFabian Rucker\, Robert Schröck\, Chris Kronreif\, Manfred Balasch\,
  Florian Fennes - Holzbläser\, Andi Pranzl\, Aneel Soomary\, Martin Ohrwa
 lder\, Walter Fend\, Dominik Fuss - Trompeten\, Robert Bachner\, Lois Eber
 l\, Phil Yaeger\, Gerald Pöttinger\, Alex Rindberger - Posaunen\, Christo
 ph Cech\, Andreas Erd\, Tibor Kövesdi\, Lukas Knöfler\, Christian Mühlb
 acher - Rhythmusinstrumente\, Werner Angerer\, Patrik Haas - Ton & Team\n\
 nhttps://nouvelle-cuisine.at/
LOCATION:
DTSTART:20251216T193000
DTEND:20251216T203000
END:VEVENT
END:VCALENDAR