BEGIN:VCALENDAR
VERSION:2.0
PRODID:spatie/icalendar-generator
BEGIN:VEVENT
UID:d8665474-41d5-4c83-a0b3-7b0d41df81ee
DTSTAMP:20260420T090953Z
SUMMARY:Desustu / Freddie's Trio (A)
DESCRIPTION:Eintritt: € 25 / € 17\,50 (U30)\n\nDesustu\n\nObwohl Klavie
 r und Akkordeon wunderbar harmonieren\, findet sich diese Kombination selt
 en auf den Konzertbühnen dieser Welt. Wie klingt ein Hit der Eurythmics i
 m barocken Stil? War Jazz nicht die wahre Passion des Johann Sebastian Bac
 h? Und findet Michael Jackson neben Astor Piazzolla Platz? Mit dem Program
 m „Suite Dreams“ geht Desustu solchen Fragen nach\, ihre Antwort sind 
 traumhaft schöne Stücke. Von wegen Piazzolla – zu diesem vor 101 Jahre
 n geborenen Titanen assoziiert Alexander Christof\, auch in der Band Grana
 da aktiv: „Melancholie in der Musik als großes Stichwort. Piazzolla sel
 bst sagte sinngemäß „Melancholie oder Traurigkeit zum Tanzen“ – di
 e treffendste Beschreibung seiner Musik. Für mich ein großes Vorbild\, e
 in Meister in jeder Hinsicht: Bandoneon\, Komposition\, er hat den Tango n
 eu erfunden (Tango nuevo)\, und ungewöhnlich besetzt (Quintett mit E-Gita
 rre!)\, die Instrumente immer perfekt genützt.“\n\nThaïs-Bernarda Baue
 r - Klavier\, Alexander Christof - Akkordeon\n\nFreddie's Trio & Special G
 uest Franz Oberthaler\n\nSchon seit einigen Jahren verschreibt sich Freddi
 e´s Trio (selbstgewählte Schreibweise)\, um die aus München stammende S
 ängerin und Bassistin Antonia Dering dem Swing. Verstärkt um den Klarine
 ttisten Franz Oberthaler laden sie heute zu einer Reise durch Raum – von
  Wien nach Paris und retour ist es nur ein musikalischer Katzensprung! –
  und Zeit. Wie im Zeitraffer schließen sie die 1930er und die Neuzeit kur
 z\, der Swing die dabei eben alles-verbindende Konstante. Dabei streifen s
 ie lustvoll am „Gipsy Jazz“ an und streuen selbst entworfene Stücke 
 über Leben und Liebe ein. Gemeinsam mit dem Publikum s(w)ingen\, grooven 
 und tanzen Freddie´s Trio durch den Abend. Swing along!\n\nAntonia Dering
  - Stimme\, Kontrabass\, Thomas Zahel - Akkordeon\, Stimme\, Franz Obertha
 ler - Klarinette\, Stimme\, Michael Mühleder - Gitarre\, Stimme\n\nIn Kop
 roduktion mit [Akkordeon Festival](http://akkordeonfestival.at/)
LOCATION:
DTSTART:20220303T193000
DTEND:20220303T203000
END:VEVENT
END:VCALENDAR