BEGIN:VCALENDAR
VERSION:2.0
PRODID:spatie/icalendar-generator
BEGIN:VEVENT
UID:d8549b3f-2d90-448e-bbc0-6f8005c7f2ae
DTSTAMP:20260420T200557Z
SUMMARY:die kleine zitronenfalterin: Astrid*Walenta
DESCRIPTION:Eine musikalische Lesung zum Mitmachen. Ab 4 Jahren\nNach einem
  Buch von Astrid*Walenta und Maria Hubinger\n\n\"wenn der frühling schon 
 recht nah\nbin ich bald dort\, bin ich bald da!\nals fliegende blume komm 
 ich daher\nbin nun keine raupe mehr\nflatter' tanzend durch die lüfte\nge
 niesse die vielen bunten düfte\nlimettengrünlich sind meine flügel\nich
  fliege gern über feld und hügel\nsoll ich euch sagen\, wer ich bin?\n\n
 die kleine zitronenfalterin!“\n\nDer Lebenslauf eines Zitronenfalterweib
 chens wird auf poetische Weise erzählt und von Musik und Bildern begleite
 t.
LOCATION:
DTSTART:20230419T090000
DTEND:20230419T100000
END:VEVENT
END:VCALENDAR