BEGIN:VCALENDAR
VERSION:2.0
PRODID:spatie/icalendar-generator
BEGIN:VEVENT
UID:d5e258ff-5a0c-4432-9ce1-e7e93d1d6508
DTSTAMP:20260420T092210Z
SUMMARY:Geoff Berner (Kanada)
DESCRIPTION:Eintritt: € 25\n\n„Die Klezmer-Tradition auf das Wesentlich
 e reduziert ... welteinladende\, freimütige\, kunstfertige Musik“ (AZ 
 / Mainz). Seit mehr als 15 Jahren bereist der jüdisch-kanadische Singer-
 Songwriter\, Akkordeonist und Autor Geoff Berner die Welt und bringt seine
  Musik auf die Bühnen diverser Bars\, Cafés\, Clubs\, Theater\, besetz
 ter Häuser\, Festivals und der einen oder anderen (okay\, der einen) Are
 na. Berners Songs sind intelligent und können einen zum Weinen bringen\,
  oder zum Lachen\, Zähneknirschen\, oder dazu ein Fenster einzuwerfen 
 – oftmals alles gleichzeitig. Seine Texte können zuweilen deutlich pol
 itisch sein und deutlich links\, aber frei von Plattitüden.\n\nGeoff Ber
 ner – Gesang\, Akkordeon\, Diona Davis – Violine\, Wayne Adams – Sch
 lagzeug\n\nIn Koproduktion mit [KlezMore Festival](http://klezmore-vienna.
 at/#data_abonnement=-1&data_year=2019&data_event_category=-1&searchTerm=&d
 ata_mode=DATE&data_pagenumber=0&page_header=2019)
LOCATION:
DTSTART:20191119T193000
DTEND:20191119T203000
END:VEVENT
END:VCALENDAR