BEGIN:VCALENDAR
VERSION:2.0
PRODID:spatie/icalendar-generator
BEGIN:VEVENT
UID:d494c6a8-aaca-4070-9dc5-1f752aa979c9
DTSTAMP:20260420T090809Z
SUMMARY:Sormeh (Iran\, Serbien)
DESCRIPTION:\"Ihr Name ist Programm. 'Sormeh' ist das persische Wort für L
 idstrich - ein wiederkehrendes Motiv in der Literatur\, das für Schönhei
 t und Kraft steht - wie die Musik von Sormeh.\" Rosa Celine Nowak (Wiener 
 Zeitung)\nGolnar Shahyar\, Mona Matbou Riahi aus dem Iran und Jelena Poprz
 an aus Serbien haben zu einem viel versprechenden Trio zusammengefunden\, 
 das - einen Bogen spannend von orientalischer zu balkanischer Musik - sein
 en kosmopolitischen Kompromiss findet in jüdischen Musiktraditionen sowie
  eigenwilligen Arrangements und Improvisationslust. Kennengelernt haben si
 ch die drei Musikerinnen beim Oficina Art Orchestra unter Leitung Alegre C
 orrêas und Projekten Mathias Rüeggs. Riahi und Shahyar interpretierten b
 ereits mit ihrem Trio Gabbeh persische Musik\, mit der Band Choub konzentr
 iert sich Golnar Shahyar auf (Ethno-)Jazz\, und Jelena Poprzan ist seit ei
 nigen Jahren mit ihrem Duo Catch-Pop String-Strong eine Fixgröße der hei
 mischen Musiklandschaft. Ihre Erfahrungen in Klassik und Jazz kommen den d
 rei jungen Frauen auch bei Sormeh zugute\, wenngleich sie hierbei trotz al
 ler Innovation tiefen Respekt vor der Tradition bekunden: bulgarische\, ar
 menische\, griechische\, persische\, jiddische und sephardische Lieder\, s
 chräge instrumentale Klezmer- und Balkan-Attacken sowie vertonte Lyrik\, 
 zeitlose wie zeitgenössische Chansons und Eigenkompositionen. Gewagt\, el
 egant und geheimnisvoll wie ein orientalischer Lidstrich\, denn nichts and
 eres heißt das persische Wort \"Sormeh\". Ihr Song \"Elegy\" hatte auf So
 undcloud binnen zwei Wochen über 10.000 Clicks. Gerade erst gegründet\, 
 erobern Sormeh\, Finalistinnen des Austrian World Music Awards 2011\, mit 
 ihren hinreißenden Konzerten\, mit Esprit\, Charisma und Spielwitz das he
 imische Publikum\, in der internationalen iranischen Diaspora werden sie d
 ank Internet bereits als Geheimtipp unablässig weiterempfohlen.\n\nGolnar
  SHAHYAR - Gesang\, Daf\, Berimbao\nMona Matbou RIAHI - Klarinette\, Bassk
 larinette\, Stimme\nJelena POPRZAN - Stimme Viola\, Setar\, Loops\nIm Rahm
 en von Balkan Fever 12
LOCATION:
DTSTART:20120503T200000
DTEND:20120503T210000
END:VEVENT
END:VCALENDAR