BEGIN:VCALENDAR
VERSION:2.0
PRODID:spatie/icalendar-generator
BEGIN:VEVENT
UID:d1b52589-9678-41da-8438-f713a22bec3e
DTSTAMP:20260424T135937Z
SUMMARY:Nouvelle Cuisine (A)
DESCRIPTION:„Oft höre ich die Frage: ‚Gibt es Nouvelle Cuisine noch?
 ‘ mit dem – die Zweifel\, an dieser Stelle einen bezüglich Branche fa
 lsch platzierten Text zu lesen\, ausräumenden – Nachsatz\, dass die Kon
 zerte dieser Bigband so schöne\, prägende Ereignisse gewesen wären. All
 en ins Freundschaftsbuch geschrieben: Ja\, es gibt uns noch! Fernab jeglic
 her Karrierezwänge tritt hier manchmal bis eher selten ein Ensemble zusam
 men\, um einfach spannende Musik zu machen. Aus der Zeit gefallen? Aber ha
 llo!!! Wenns dazu kommt\, dass wir uns auf der Bühne versammeln\, dann f
 ährt das Konzert ein wie der Paukenschlag in die Symphonie. Selbst überz
 eugen!!“ (Christoph Cech\, Mai 2023)\n\nFabian Rucker\, Robert Schröck\
 , Chris Kronreif\, Manfred Balasch\, Florian Fennes - Rohrblattinstrumente
 \, Andi Pranzl\, Aneel Soomary\, Markus Pechmann\, Martin Ohrwalder\, Walt
 er Fend - Trompeten\, Robert Bachner\, Lois Eberl\, Phil Yaeger\, Gerald P
 öttinger\, Alex Rindberger - Posaunen\, Christoph Cech\, Andreas Erd\, Ti
 bor Kövesdi\, Lukas Knöfler\, Christian Mühlbacher - Rhythmus\nTon & Te
 am: Werner Angerer\, Patrik Haas\, Paul Mühlbacher\n\nhttps://nouvelle-cu
 isine.at/
LOCATION:
DTSTART:20231219T193000
DTEND:20231219T203000
END:VEVENT
END:VCALENDAR