BEGIN:VCALENDAR
VERSION:2.0
PRODID:spatie/icalendar-generator
BEGIN:VEVENT
UID:d10a6ee3-a9ad-4e31-9f4a-4758d0e839af
DTSTAMP:20260420T091915Z
SUMMARY:STELIOS MPIKAKIS (Griechenland): Kretischer Balkan
DESCRIPTION:Stelios MPIKAKIS - kretische Lyra\, Stimme Helias KATSAVIDIS - 
 Bouzouki\, Stimme Timotheos VRONTAKIS - Laute Fanis LOURANDAKIS - Keyboard
  Giorgos TROULINOS - Bass Takis HATZIMIHAILIDIS - Gitarre Manolis PITERIS 
 - Klarinette Antonis ZAHARAKIS - Schlagzeug Die Frage\, ob Griechenland zu
 m Balkan gehört oder nicht\, beantworten wir mit dem Auftritt eines Stars
  von der Insel Kreta. Somit erklären wir die Berghänge der Insel zum sü
 dlichen Balkon des Balkans. Auch gleicht die Bevölkerung Kretas\, die sei
 t jeher gegenüber Griechenland eine eigene kulturelle Identität behaupte
 t\, in vielerlei Hinsicht anderen Bergkulturen des Balkans\, den Montenegr
 inerInnen\, den AlbanerInnen Nordalbaniens und des Epiros oder den Bewohne
 rInnen der kroatischen Lika. Stelios Mpikakis ist im griechischen Folkpop 
 gleichermaßen populär wie in der traditionellen Musik Kretas. Sie zeichn
 et sich durch die Verwendung der archaischen Geige Lyre und der Laoúto au
 s\, durch akrobatische Tänze wie den Pentozalis und durch oft tragische\,
  oft humorvolle gesungene Couplets\, die man Mantinades nennt (und die nic
 ht selten dem Epos Erotokritos des kretischen Nationaldichters Vitzentsos 
 Kornaros’ aus dem 16. Jahrhundert entstammen). Stelios Mpikakis\, der 19
 65 in Réthymno geboren wurde und seit seinem 14. Lebensjahr die Lyre behe
 rrscht\, gleich seinem großen Vorbild Psarantonis ein Innovator. Mit gef
 ühlvollen Chansons\, die auch den musikalischen Trends der vergangenen dr
 eißig Jahre auf dem Festland Referenz erweisen und die ein bisschen an Ge
 orge (bzw. Yorgos) Dalaras erinnern\, stürmt er regelmäßig die griechis
 chen Charts. Sein größter Hit war wohl das düster-kraftvolle Genethlia 
 (\"Geburtstag\")\, eine Art poetische Autobiografie\, die er anlässlich d
 es Todes seines Sohnes verfasst hat. Der Song wurde 2004 von einem anderen
  berühmten Kreter\, Notis Sfakianakis\, gecovert. Erleben Sie den \"kreti
 schen Balkan\" in seiner archaischsten wie zeitgenössischsten Form. Im Ra
 hmen von Balkan Fever 09 [Hörprobe](http://www.sargfabrik.at/docs/veranst
 altungen/sounds/09/track27.swf) [(Hier gibt es den Adobe Flash Player als 
 Gratisdownload)](http://www.adobe.com/de/products/flashplayer) Der Vorverk
 auf ist bereits beendet. Wir führen solange der Vorrat reicht eine Reserv
 ierungsliste für Restkarten an Stehplätzen.
LOCATION:
DTSTART:20090508T200000
DTEND:20090508T210000
END:VEVENT
END:VCALENDAR