BEGIN:VCALENDAR
VERSION:2.0
PRODID:spatie/icalendar-generator
BEGIN:VEVENT
UID:d04cbbab-0837-4a10-91cd-f61f5980bab5
DTSTAMP:20260425T034246Z
SUMMARY:20 Jahre Staatsakt - Die Jubiläumstour: Die Türen\, ZINN\, Pauls 
 Jets (Solo)
DESCRIPTION:Konzertreihe: [reihe X](https://sargfabrik.at/kultur/reihe-x-1-
 1)\n\nWas erscheint\, ist gut\, was gut ist\, erscheint\n\n20 Jahre Staats
 akt. 20 Jahre Independent-Label-Biz. 20 Jahre Gentrifizierung und digitale
  Transformation. 2 Jahre Schröder\, 16 Jahre Merkel und schon bald 2 Jahr
 e Scholz.\nIm Oktober 2023 feiert das Berliner Label seinen 20. Geburtstag
  mit einer großen Tournee\, einer großen Gala im Berliner HAU\, einem Bu
 ch im Verbrecher Verlag\, Vinyl-Wiederveröffentlichungen von vergriffenen
  Klassikern des Labels und nicht zuletzt: Einem neuen Album der Haus- und 
 Hofband des Labels: Die Türen.\nIn unterschiedlichen Line-Ups feiert das 
 Label in Clubs und Spielstätten. In der Sargfabrik freuen wir uns auf die
  Bands Die Türen\, ZINN und Pauls Jets (Solo).\n\nDie Türen - Kapitalism
 us Blues Band\n\nZu manchen Firmenjubiläen gibt es goldene Uhren\, zu and
 eren Würstchen und Bier. Bei den Türen gibt es ein neues Album: Kapitali
 smus Blues Band. Schließlich arbeitet man seit 20 Jahren in der Unterhalt
 ungsindustrie. So haben Die Türen vor 20 Jahren nicht nur eine Band gegr
 ündet\, sondern auch das Label staatsakt. Sie verstehen also etwas vom Ge
 schäft. „Wer hat uns versprochen\, hier einmal heile rauszukommen?“ f
 ragen die Türen gleich zu Beginn im ersten Song „Gut für mich\, schlec
 ht für die Welt“ und beantwortet wird die Frage mit einem einfachen „
 Yeah!“ aus dem Sampler. Was in den anschließenden 37 Minuten folgt\, is
 t ein hochenergetischer Ritt durch krautige Can Klangräume\, düstere Wip
 ers Riffs\, partyselige Happy Mondays und Primal Scream Rave-Hymnen mit tr
 eibenden elektronischen Sequenzen\, garniert mit Folksongs aus Opas Wohnzi
 mmer.\n\nRamin Bijan\, Chris Imler\, Gunther Osburg\, Andreas Spechtl und 
 Maurice Summen\n\nZINN ist ein weiches Schwermetall und wenn man es verbie
 gt\, schreit es. Drama und Wut fusionieren und generieren Chanson Punk. Du
 nkle Stimmen singen sich mit zerbrechlicher Vehemenz in den Schlaf und war
 ten auf einen Dream Pop oder den Apocalypso. In den Ruinen des Kapitalismu
 s spazieren ZINN und trinken Limoncello. 2020 veröffentlichten sie ihr er
 stes Album \"ZINN\" auf Numavi Records. Produzent: Wolfgang Möstl. Im Her
 bst 2023 folgt ihr zweites Album „Chthuluzän“ welches auf Staatsakt e
 rscheinen wird.\n\nMargarete Wagenhofer - Stimme\, Gitarre\, Lilian Kaufma
 nn - Schlagzeug\, Leonie Schlager - Bass\, Synthesizer\n\nPauls Jets (auch
  die Jets genannt) tauchen relativ plötzlich im zweiten Drittel der 2010e
 r Jahre in Wien auf. Bald schon ist die Band und ihr seltsamer Sound\, der
  sich gekonnt einer Verortung zu entziehen weiß\, eine kleine neue Größ
 e in der österreichischen Musiklandschaft. Mit dem 2019 erschienenen Albu
 m \"Alle Songs bisher\" legen sie ein Plädoyer gegen die Kleinkariertheit
  des Indie-Pops hin\, Dada trifft auf Pathos. 2021 schlagen die Jets mit d
 em Signing beim Berliner Label Staatsakt eine neue Richtung ein und arbeit
 en sich so wie nie zuvor an Zufall\, Raum\, Klang und Montage ab. Dabei en
 tstehen Stücke wie “Kohlpechana”\, “Baby” oder “Obstbaumwald”
  bei der sich die nun vier Musiker:innen inhaltlich dem Verhältnis von Ar
 beit und Rausch annehmen. Für ein exklusives Konzert im Zuge der 20-Jahre
 sfeier des oben schon erwähnten Berliner Kultlabels Staatsakt wird Paul B
 uschnegg\, Kopf der Jets\, eine seltene Solo-Werkschau vornehmen\, bei der
  vor allem seine poetischen Texte im Vordergrund stehen werden.
LOCATION:
DTSTART:20231012T193000
DTEND:20231012T203000
END:VEVENT
END:VCALENDAR