BEGIN:VCALENDAR
VERSION:2.0
PRODID:spatie/icalendar-generator
BEGIN:VEVENT
UID:cf686f44-06fc-452a-9879-cb46f99c2237
DTSTAMP:20260420T090508Z
SUMMARY:ZDRAVKA & PIRINKA HRISTOVI (Bulgarien\, Pirin)
DESCRIPTION:Zdravko HRISTOVI - Gesang Pirinka HRISTOVI - Gesang Dimiter DIN
 EV - Tamboura Ivan ILIEV - Gaida Ivailo IVANOV - Tupan \"Dass die leichten
  Dissonanzen in ihrem Zwiegesang durchaus gewollt sind\, hat weniger mit d
 em Umstand zu tun\, dass die Hristovi-Sisters ihre Kunst - wie so viele an
 dere traditionelle InterpretInnen in Bulgarien - an der Universität verfe
 inert haben\, sondern gehört zur unakademischen Tradition selbst.\" (Conc
 erto) Wie sehr traditionelle Musik auch ohne Modernismen grooven kann\, be
 weisen die Zwillingsschwestern Zdravka und Pirinka Hristovi aus Bansko in 
 der Region Pirin. Erstere ist nach einer Blume benannt (Zdravets heißt Ge
 ranie)\, Letztere nach dem wilden Piringebirge - und wie Blume und Fels\, 
 so verhalten sich mitunter auch ihre Stimmen zueinander. Beide sind sie Me
 isterinnen jenes wild-expressiven diaphonen Gesangs mit tremolierenden Kop
 fstimmen\, wie er besonders typisch für das raue Grenzland zwischen Mazed
 onien und Bulgarien ist. Reiche Melismatik\, ungerade Rhythmen und die syn
 kopischen Effekte von plötzlichen \"Jaulern\"\, \"Kreischern\" und \"Hick
 ups\"\, angetrieben durch die funkigen Beats von Rahmentrommel (Tupan) und
  Akkorde von Langhalslaute (Tambura) und Dudelsack (Gaida) ergeben eine un
 gemein archaische\, dionysische Musik\, die Seelen und Körper der HörerI
 nnen auch jenseits des folkloristischen Rahmens mit Wellen körpereigener 
 Drogen zu überschwemmen vermag. Wie viele traditionelle MusikerInnen abso
 lvierten die Hristovi-Schwestern das Institut für Musik und Pädagogik in
  Plovdiv. Später waren sie Solistinnen des Pirin Staats-Ensembles\, mit d
 em sie durch die USA\, Japan\, Kanada\, Westeuropa und Israel tourten. Bei
 de sind hoch respektierte Gesangslehrerinnen und unverzichtbare Erforscher
 innen und Interpretinnen der distinkten Musikkultur Pirins\, die wegen ihr
 er Wildheit mühelos in der Lage ist\, so manches Vorurteil über Volksmus
 ik im Begeisterungsrausch aufzulösen. Mit freundlicher Unterstützung des
  Bulgarischen Kulturinstituts Haus Wittgenstein.
LOCATION:
DTSTART:20050422T200000
DTEND:20050422T210000
END:VEVENT
END:VCALENDAR