BEGIN:VCALENDAR
VERSION:2.0
PRODID:spatie/icalendar-generator
BEGIN:VEVENT
UID:ccdb6ae5-b874-4c83-9a8c-85f2100db5e3
DTSTAMP:20260424T134353Z
SUMMARY:Wir feiern 30 Jahre Sargfabrik!: Auftakt zum Festwochenende mit LIM
 UKA – Live-Musik-Karaoke
DESCRIPTION:OPEN DOORS\, OPEN STAGE!\n\n30 Jahre Sargfabrik – und der Auf
 takt gehört euch! Zum Start ins Jubiläums-Wochenende wird das Kulturhaus
  zum musikalischen Wohnzimmer\, zur Bühne für Mutige und zum Treffpunkt 
 für alte Wegbegleiter\, neue Entdecker und geladene Gäste. Ein Abend\, d
 er nicht nur eröffnet\, sondern verbindet – laut\, herzlich und mit vie
 l Platz für spontane Sternstunden.\n\nSING IT LOUD\n\nDie Live-Karaoke-Ba
 nd LIMUKA macht DICH zum Star des Abends. Ob solo\, im Duett oder als Grup
 pe: Rund 400 Songs warten darauf\, gemeinsam mit professioneller Liveband 
 auf die Bühne gebracht zu werden. Aktuell stehen über 380 Lieder zur Aus
 wahl. Such dir jetzt schon deinen Song auf https://www.limuka.at/media/son
 glist.pdf aus. Wird ein Song aufgerufen\, gehört die Bühne ganz den Muti
 gen – unterstützt von Backing Vocals\, die jeden Auftritt tragen\, feie
 rn und veredeln.\n\nZwischen den Live-Performances übernimmt ein DJ und h
 ält die Stimmung in Bewegung. Tanzbare Beats\, fließende Übergänge\, o
 ffene Gespräche an der Bar – ein Kommen und Gehen\, ein Wiedersehen und
  Kennenlernen. Die Saison beginnt nicht mit einem Paukenschlag\, sondern m
 it vielen Stimmen\, die gemeinsam feiern.\n\nMartin Scheer - Schlagzeug\, 
 Werner Laher - Bass\, Engel Mayr - Gitarre\, Christoph Richter - Keyboard\
 , Gerald Huber - Moderation\, Backing Vocals\n\nKUNST IM FOYER\n\nKommt et
 was früher zur Vernissage von Irena Eden & Stijn Lernout\, zwei in der Sa
 rgfabrik lebende Kunstschaffende\, und stoßt mit uns und einem Glas Sekt 
 an – es lohnt sich!\n\nEin Abend zum Mitmachen\, zum Anstoßen\, zum Wie
 dersehen.\nEin Auftakt\, der nach vorne schaut – und gleichzeitig 30 Jah
 re Sargfabrik feiert.\n\nKommt als Gäste. Geht als Teil der Geschichte.\n
 \nhttps://www.limuka.at/
LOCATION:
DTSTART:20260911T193000
DTEND:20260911T203000
END:VEVENT
END:VCALENDAR