BEGIN:VCALENDAR
VERSION:2.0
PRODID:spatie/icalendar-generator
BEGIN:VEVENT
UID:c7b52c82-0387-404e-8ff6-da601cfe577c
DTSTAMP:20260421T094500Z
SUMMARY:Patricia Moreno Trio (A\, VE): feat. Chipi Chacón & Arnoldo Moreno
DESCRIPTION:„Líricas Latinoamericanas“\n\nIn ihrem neuen Programm „L
 íricas Latinoamericanas“ bewegt sich die österreichisch-venezolanische
  Sängerin Patricia Moreno zwischen lateinamerikanischer Folklore\, romant
 ischen Boleros\, mitreißenden venezolanischen Merengues und elektrisieren
 den brasilianischen Chorinhos. In lyrischen Balladen oder groovigen Uptemp
 o-Scatsoli kommt die stimmliche Vielseitigkeit der Sängerin voll zu trage
 n\, sie gleitet mühelos durch die Register und kostet alle vokalistischen
  Möglichkeiten aus: von gehauchten Tönen bis hin zu metallischen Höhen 
 in Fortissimo-Passagen.\n\nBegleitet von Fagner Wesley am Klavier und Robe
 rto Koch am Kontrabass\, bringt Patricia Moreno zwei Special Guests mit au
 f die Bühne: den venezolanischen Trompeter und Grammy Nominee Chipi Chac
 ón und den venezolanischen Fingerstyle-Gitarrevirtuosen Arnoldo Moreno. G
 emeinsam kreieren sie einen Sound aus unterschiedlichen stilistischen Elem
 enten\, der sowohl abwechslungsreich als auch mühelos genreübergreifend 
 ist.\n\nIn jeder Note schwingen Patricias zentrale Themen wie Einheit\, Zu
 gehörigkeit\, Liebe und Lebenslust mit.\n\nPatricia Moreno - Stimme\, Fag
 ner Wesley - Klavier\, Roberto Koch - Bass\, Chipi Chacón - Trompete\, Ar
 noldo Moreno - Gitarre\n\nhttps://patriciamoreno.net/de/\n\nIn Kooperation
  mit [LAI](https://www.vhs.at/de/e/lai)
LOCATION:
DTSTART:20241015T193000
DTEND:20241015T203000
END:VEVENT
END:VCALENDAR