BEGIN:VCALENDAR
VERSION:2.0
PRODID:spatie/icalendar-generator
BEGIN:VEVENT
UID:c50f6a8c-191b-4ce5-be33-d7bb0068e2cc
DTSTAMP:20260421T082911Z
SUMMARY:Jelena Popržan –„Quartett“ (SRB\, A)
DESCRIPTION:Jelena Popržan erfindet sich wieder einmal neu – und bleibt 
 sich trotzdem treu. Die charismatische und vokal nuancenreiche Violaspiele
 rin\, Sängerin und Soundkünstlerin aus der Vojvodina (Serbien)\, die mit
  Ensembles wie Catch-Pop String-Strong\, Sormeh und Madame Baheux der hies
 igen Musikszene einige Vitalität injiziert hat\, stellt nun nach ihrem vi
 elbeachteten Soloprogramm „La Folia“ ein neues Projekt und dafür ein 
 neues Team auf die Beine.\n\nIn einem Büchlein der Theodor Kramer Gesells
 chaft fand sie die Gedichte der polnisch-wienerischen Poetin Tamar Radzyne
 r (1932–1991) und war tief beeindruckt. Die polnische Jüdin\, die im be
 waffneten Widerstand war und die Shoah überlebte\, fand in Wien und in de
 r deutschen Sprache eine neue Heimat\, arbeitete mit Georg Kreisler und To
 psy Küppers zusammen\, und schrieb Gedichte voll heiterem Pessimismus und
  bitterem Witz. Ihr setzt Jelena Popržan mit einem Liederzyklus ein musik
 alisches Denkmal. Den größeren Teil des Programms aber nehmen ihre brand
 neuen Instrumentalkompositionen ein\, Stücke voll imaginativer Klangbilde
 r und melodischer Geschichten\, wobei ihr drei begnadete Fixgrößen der h
 eimischen Jazzszene zur Hand gehen: Christoph Pepe Auer\, Clemens Sainitze
 r sowie ihre Kollegin von Madame Baheux: Lina Neuner.\n\nJelena Popržan -
  Quinton (5-saitige Viola)\, Stimme\, Komposition\, Christoph Pepe Auer - 
 Klarinette\, Alt-Saxophon\, Clemens Sainitzer - Violoncello\, Lina Neuner 
 - Kontrabass\n\nhttps://www.jelenapoprzan.com/
LOCATION:
DTSTART:20231025T193000
DTEND:20231025T203000
END:VEVENT
END:VCALENDAR