BEGIN:VCALENDAR
VERSION:2.0
PRODID:spatie/icalendar-generator
BEGIN:VEVENT
UID:c44b49ba-2095-47b3-8f30-03f9b58257c2
DTSTAMP:20260421T082320Z
SUMMARY:Maria Mazzotta (Italien\, Madagaskar)
DESCRIPTION:Eintritt: € 27\n\nEine intensive und leidenschaftliche Reflex
 ion über die verschiedenen Gesichter der Liebe: die große\, die verzwei
 felte\, die zerbrechliche oder die toxische – das ist „Amoreamaro“ (
 Bitter Love)\, das neue Album von Maria Mazzotta\, eine der größten mus
 ikalischen Persönlichkeiten Süditaliens. Als Mitglied der Band Canzoni
 ere Grecanico Salentino wurde Mazzotta zu einer der meist geschätzten St
 immen in der europäischen Weltmusikszene. Ihr Repertoire reicht von klei
 nen Volksgesängen über neu arrangierte traditionelle Lieder bis zu den
  Wegbereitern des italienischen Lieds wie „Lu pisci Spada“ von Domenic
 o Modugno\, „Rosa canta e cunta“ von Rosa Balistreri u.v.m.\n\nMaria M
 azzotta – Gesang\, Perkussion\, Bruno Galeone – Akkordeon\n\nIn Koprod
 uktion mit [Akkordeon Festival 20](http://akkordeonfestival.at/#data_abonn
 ement=-1&data_year=2019&data_event_category=-1&searchTerm=&data_mode=DATE&
 data_pagenumber=0&page_header=2019)
LOCATION:
DTSTART:20200310T193000
DTEND:20200310T203000
END:VEVENT
END:VCALENDAR