BEGIN:VCALENDAR
VERSION:2.0
PRODID:spatie/icalendar-generator
BEGIN:VEVENT
UID:c16b3889-76ad-41fc-bfee-157b37e7b7c2
DTSTAMP:20260420T090126Z
SUMMARY:Andrej Prozorov Quartett feat. Aliosha Biz (A)
DESCRIPTION:Das Konzert wird auch als Videostream angeboten. Den Link finde
 n Sie ab 19:30 weiter unten auf dieser Seite.\n\nAndrej Prozorov und Alios
 ha Biz leben seit Jahren\, wenn nicht seit Jahrzehnten in Wien und kennen 
 sich auch ungefähr gleich lang. Bis heute haben sich die beiden eloquente
 n Musiker ausschließlich bei den ausgedehnten Philosophie-\, Literatur- u
 nd Geschichtsdiskursen (Teilnehmer: Prozorov und Biz)\, von starkem Schwar
 ztee begleitet\, ausgetauscht.\nIhre jüdischen Wurzeln sind bei weitem ni
 cht der einzige gemeinsame Nenner. Ihr erster Duo-Auftritt verspricht somi
 t diese Wurzeln musikalisch zu einer neuen Pflanze gedeihen zu lassen.\nAl
 s dieser Text geschrieben wurde (man muss ja rechtzeitig in den Druck gehe
 n) wussten Prozorov und Biz noch nicht 100%ig\, wo die Reise genau hingehe
 n würde\, doch die hochkarätigen Begleiter standen schon fest: Christian
  Bakanic (Akkordeon)\, Walter Singer (Kontrabass) und Christian Eberle (Sc
 hlagzeug) machen an diesem Abend das Duo zum Quintett. Ein Geburtstagsfest
  ist es übrigens auch. Das von Andrej Prozorov. Bringt ein Geschenk mit!\
 n\nAndrej Prozorov - Sopransax\, Aliosha Biz - Violine\, Christian Bakanic
  - Akkordeon\, Walter Singer - Kontrabass\, Christian Eberle - Drums\n\nIn
  Koproduktion mit [KlezMORE Festival Vienna](http://klezmore-vienna.at/#da
 ta_abonnement=-1&data_year=2022&data_event_category=-1&searchTerm=&data_mo
 de=DATE&data_pagenumber=0&page_header=2022)\n\nMit einem Betrag Ihrer Wahl
 \, einem virtuellen Eintritt\, können Sie sowohl die Künstler:innen als 
 auch unser Projekt unterstützen. Wir bitten um eine Überweisung direkt a
 uf unser Konto: Verein für Integrative Lebensgestaltung / IBAN: AT44 1200
  0006 1816 3406\, BIC: BJAUATWW.\n\nWir freuen uns über jeden Betrag!
LOCATION:
DTSTART:20221117T193000
DTEND:20221117T203000
END:VEVENT
END:VCALENDAR