BEGIN:VCALENDAR
VERSION:2.0
PRODID:spatie/icalendar-generator
BEGIN:VEVENT
UID:bfb7759e-7246-4563-9414-758cd113cd00
DTSTAMP:20260420T090508Z
SUMMARY:Nikitov (Niederlande)
DESCRIPTION:Eintritt: € 23\n\nDie Sängerin Niki Jacobs verspürte schon 
 immer eine tiefe Faszination für ihre Familiengeschichte. Daraus wuchs ei
 ne Leidenschaft für die jiddische Sprache und Kultur\, insbesondere für 
 die Musiktradition. Mit glasklarer Stimme und ihrer phänomenalen Akustikb
 and interpretiert sie seit vielen Jahren jiddische Lieder\, zunächst ganz
  traditionell\, später auch eigene Kompositionen.\nAuch einige ihrer Lieb
 lings-(Pop)-Songs singt sie auf jiddisch. Mit Keejner hot nisjt“ („Ain
 ’t nobody“)\, „A Fisbank in Himl“ („Stairway to Heaven“) oder 
 „Nit keejn zoensjain“ („Ain’t no sunshine“) erwartet uns ein Abe
 nd mit chilligem Jiddpop.\n\nNiki Jacobs - Gesang\nRuud Breuls - Trompete\
 nPeter van Os - Akkordeon\nEmile Visser - Cello\nEdwin Wieringa - Kontraba
 ss\n\nIn Koproduktion mit [KlezMore Festival 16](http://klezmore-vienna.at
 /)\nIn Kooperation mit ViennaJazzFloor\nhttp://salam-orient.at/
LOCATION:
DTSTART:20161117T193000
DTEND:20161117T203000
END:VEVENT
END:VCALENDAR