BEGIN:VCALENDAR
VERSION:2.0
PRODID:spatie/icalendar-generator
BEGIN:VEVENT
UID:bf1d365d-4f3d-4a93-9945-4672fefb11f1
DTSTAMP:20260420T092043Z
SUMMARY:Masaa (Deutschland\, Libanon)
DESCRIPTION:Eintritt: € 24\n\nDie Musik dieses Quartetts\, rund um den im
  Libanon geborenen Sänger Rabih Lahoud\, strahlt eine Dringlichkeit und L
 eidenschaft aus\, wie man sie nur selten zu hören bekommt. Lahoud geht de
 n ganzen Weg von innigen Passagen bis zu emphatischen Ausbrüchen\, und da
 s nicht\, weil er es kann\, sondern weil er es muss. Seine ausdrucksstarke
  Stimme wird von klug arrangierten Kompositionen gestützt. Arabisches\, J
 azz\, Kammermusik\, Experimentelles und Improvisation verbinden sich schl
 üssig. Die Musik lädt dazu ein\, in den Klang einzutauchen und sich mit 
 ihm treiben zu lassen. Der derzeit wohl spannendste Ethno-Jazz auf deutsch
 sprachigen Bühnen!\n\nRabih Lahoud – Gesang\, Marcus Rust – Trompete\
 , Clemens Pötzsch – Klavier\, Demian Kappenstein – Schlagzeug\n\nIn K
 oproduktion mit [Salam Orient](http://www.salam-orient.at/)
LOCATION:
DTSTART:20181016T193000
DTEND:20181016T203000
END:VEVENT
END:VCALENDAR