BEGIN:VCALENDAR
VERSION:2.0
PRODID:spatie/icalendar-generator
BEGIN:VEVENT
UID:bf027f0f-bb14-45c3-bb2a-8526f99bf3ce
DTSTAMP:20260420T091123Z
SUMMARY:Dawanggang (China\, Indien\, Mongolei)
DESCRIPTION:Chinesische Musik wird häufig mit traditionellen Instrumenten\
 , Falsett-Gesang oder der Imitation bzw. Assimilation westlicher Rockmusik
  in Verbindung gebracht. DaWangGang beweist uns Gegenteiliges und zeigt\, 
 wie einfach die Genre-Grenzen zwischen chinesischer und zentralasiatischer
  Folklore und Oper\, zwischen Singer-Songwriter und zeitgenössischem Rock
  aufgehoben werden können. Durch einen progressiven Ansatz schafft die Ba
 nd eine radikal neue Verbindung von Tradition und Gegenwart. Song Yuzhe\, 
 Gründer und Mastermind von DaWangGang\, studierte in Peking Gitarre und K
 omposition\, bevor er sich für knapp zehn Jahre in entlegene Gegenden Chi
 nas (v.a. Tibet) aufmachte\, um Musik und Musiker unterschiedlichster ethn
 ischer und sozialer Herkunft kennenzulernen. Diese Erfahrung mündete schl
 ießlich in dem experimentellen Band-und Performanceprojekt DaWangGang. So
 ng Yuzhes Musik enthält traditionell chinesische Komponenten\, zeichnet a
 ber ein weites Bild zwischen Tradition\, Improvisation\, experimentellen E
 lementen sowie Videos und Bildern. Kritiker haben seine Musik als Soundsca
 pe beschrieben. Er selbst bezeichnet sich als Songwriter. Yuzhe arbeitete 
 als Toningenieur\, schreibt Film- und Stummfilmmusiken und tritt auch als 
 Solo Künstler auf. Die experimentelle Mischung aus Singer-Songwriter Mate
 rial und traditionellen chinesischen Elementen macht die Musik von DaWangG
 ang zu einem in ihrer Eigenständigkeit einmaligen Produkt\, jenseits von 
 Folklore und Pop Stereotypen. Im Herbst 2013 kommt DaWangGang zum ersten M
 al nach Europa. Neben Yuzhe sind vier weitere Musiker unterschiedlichster 
 musikalischer Herkunft dabei\, darunter der Pferdekopf-Geigenspieler Hu Ge
 jiletu aus der Inneren Mongolei\, die indisch-französische Sängerin Rani
  und der Schlagzeuger Zhang Yang\, der aus der Rock-Szene Pekings kommt. S
 pannend\, spannend!\n\nSong YUZHE - Gitarre\, Banjo\, Stimme\nHu GEJILETU 
 - Pferdekopf-Fidel\, Maultrommel\nRANI - Stimme\nADIL - Ghejek\nZhang YANG
  - Schlagzeug\n\nIn Koproduktion mit Salam Orient 2013
LOCATION:
DTSTART:20131017T200000
DTEND:20131017T210000
END:VEVENT
END:VCALENDAR