BEGIN:VCALENDAR
VERSION:2.0
PRODID:spatie/icalendar-generator
BEGIN:VEVENT
UID:bb2822fb-8d51-4236-acbd-f5b4e8ea2f8b
DTSTAMP:20260422T090830Z
SUMMARY:TUTARCHELA (Georgien): Hohe Sangeskunst
DESCRIPTION:Tamar BUADZE - künstlerische Chorleitung Jana KOKAIA\, Nato GA
 GLOEVA\, Xatuna KASRADZE\, Tea CHAKVETADZE\, Mariam ARVELADZE\, Dali DABRU
 NDASHVILI\, Lela CHINCHARADZE oder Inga PATATISHVILI\, Tamar MOSIEVA\, Nin
 o JELADZE\, Nana SHANIDZE\, Xatuna BARBAKADZE\, Nino MAMAGULASHVILI Tutarc
 hela (\"Mondlicht\") ist ein Chor selbstbewusster und energischer junger F
 rauen aus Georgien. Die 13 Sängerinnen haben sich auf die klassischen\, t
 raditionellen Lieder und Tänze der verschiedenen Regionen ihrer Heimat sp
 ezialisiert. So bekommen vom Vergessen bedrohte Lieder aus Kachetien\, Laz
 etien und Gurien wieder neue Töne. Der Chor erobert die traditionell män
 nlichen Bastionen von Polyphonie und komplexer Rhythmik\, die die UNESCO i
 n die Liste des Weltkulturerbes aufgenommen hat. Lauschen Sie der hohen Sa
 ngeskunst jener Berge\, an denen sich Europa und der Orient berühren und 
 betreten Sie mit Tutarchela eine neue Klangwelt\, die melancholisch und vo
 ller Kraft ebenso fremd wie vertraut wirkt! Von Tamar Buadze 2004 gegründ
 et hat die Mehrzahl der Mitglieder am staatlichen Konservatorium in Tiflis
  Chorleitung studiert und eine breite musikalische wie gesangliche Ausbild
 ung. Die Regisseurin Ruth Olshan entdeckte den Chor und porträtierte ihn 
 in ihrem Film über Georgische Musik \"Wie Luft zum Atmen\". Im Sommer 200
 7 gab der in seiner Heimat längst preisgekrönte Chor auf Einladung des W
 DR erste Konzerte in Deutschland. Wienpremiere In Koproduktion mit Salam O
 rient Foto: Eran Yardeni [Hörprobe](../docs/veranstaltungen/sounds/0809/t
 rack12.swf) [(Hier gibt es den Adobe Flash Player als Gratisdownload)](htt
 p://www.adobe.com/de/products/flashplayer)
LOCATION:
DTSTART:20081028T200000
DTEND:20081028T210000
END:VEVENT
END:VCALENDAR