BEGIN:VCALENDAR
VERSION:2.0
PRODID:spatie/icalendar-generator
BEGIN:VEVENT
UID:b71ac5b2-6e0e-4fd1-afc8-5b523e80ab8d
DTSTAMP:20260424T134506Z
SUMMARY:Kirtag & Festtag: 30 Jahre Sargfabrik: EIN TAG FÜR ALLE
DESCRIPTION:Eintritt frei\n\nEIN TAG FÜR ALLE\n\nAnlässlich ihres 30-jäh
 rigen Bestehens lädt die Sargfabrik zu einem Kirtag und Festtag ein – e
 in vielfältiges Jubiläumsfest für Nachbar\, Freund\, Interessierte und 
 Gäste jeden Alters. Was 1996 als Vision eines gemeinschaftlichen Wohnproj
 ekts mit kulturellem Anspruch begann\, hat sich zu einem lebendigen Ort mi
 t Kulturhaus\, Seminarhaus\, Badehaus\, Café-Restaurant und – seit 2000
  – der MISS Sargfabrik entwickelt. Drei Jahrzehnte später öffnen sich 
 Türen\, Höfe und Bühnen für einen gemeinsamen Festtag.\n\nDER TAG IM 
 ÜBERBLICK\n\n10:30 Uhr – MULTI-KULTI FRÜHSTÜCK\nGemeinsames Frühstü
 ck auf der Straße vor der Sargfabrik (Goldschlagstraße) mit der MultiKul
 tiKuchlKombo. Ein entspannter Start in den Tag – offen\, nachbarschaftli
 ch und musikalisch.\n\n12:30 Uhr – KIRTAG & OFFENE TÜREN\nDas Gelände 
 rund um die Sargfabrik verwandelt sich in einen lebendigen Kirtag mit Attr
 aktionen sowie Ständen mit Speisen\, Getränken und vielfältigen Angebot
 en. Besucher:innen erhalten Einblicke in das Innenleben des Projekts: Geme
 inschaftsräume und ausgewählte Wohnungen öffnen ihre Türen\, Foto- und
  Filmpräsentationen erzählen aus der bewegten Geschichte.\nMusik- und Pe
 rformance-Acts bespielen Dachgarten\, Badehaus\, Innenhof der MISS Sargfab
 rik und weitere Plätze. Mit dabei sind interne Formationen wie die Sargdi
 xies oder Schurli Graf mit Band ebenso wie Tanz- und Performance-Beiträge
  – darunter eine Tango-Show mit Schnupper-Workshop.\n\n19:30 Uhr – KON
 ZERTE & DJ IM KULTURHAUS\nAm Abend verlagert sich das Geschehen ins Kultur
 haus: Die BiggaBand und die Crazy Coffins treten gemeinsam mit den „Kiwi
 s“\, der Jugendband der Sargfabrik\, auf. Anschließend sorgt ein DJ fü
 r tanzbare Sounds bis in die Nacht.\n\nEin Tag zum Entdecken\, Begegnen un
 d Feiern.\nDie Sargfabrik lädt dazu ein\, gemeinsam einen unvergesslichen
  Jubiläumstag zu feiern.
LOCATION:
DTSTART:20260912T103000
DTEND:20260912T113000
END:VEVENT
END:VCALENDAR