BEGIN:VCALENDAR
VERSION:2.0
PRODID:spatie/icalendar-generator
BEGIN:VEVENT
UID:b0e68485-fe5c-4ee8-8d5a-c301dbc1f04f
DTSTAMP:20260420T092035Z
SUMMARY:Budapest Klezmer Band (Ungarn): Europa gestern und heute
DESCRIPTION:Aus dem Herzen unseres Kontinents\, dort\, wo die Ursprünge de
 r Klezmer-Musik liegen\, stammt das 1990 gegründete Ensemble. Die Budapes
 t Klezmer Band führt das Publikum zurück in vergangene Zeiten in Zentral
 - und Osteuropa\, als traditionelle jüdische Musik integraler Bestandteil
  des Alltagslebens einer Gemeinde und ihrer kulturellen Praktiken war. Sie
  erzählt von einem Europa wie es war - wie es ist. Der Gründer und Leite
 r\, Ferenc Jávori\, aufgewachsen in der nunmehr ukrainischen Stadt Munká
 cs\, erlernte Klezmer von und spielte mit den letzten Überlebenden des Ho
 locaust einer einst blühenden Community. Zwischen unbändiger Freude und 
 unendlicher Wehmut bewegen sich die geistreichen Melodien\, in seinen Arra
 ngements steckt viel Witz und Selbstironie. Doch die virtuosen Musiker - s
 ie haben allesamt eine klassische Ausbildung genossen\, die meisten als Ab
 solventen der renommierten Franz Liszt Academy of Music in Budapest - entw
 ickeln den Klezmer weiter: In die osteuropäische Tradition mit ihren übe
 rlieferten Melodien\, Rhythmen und Spielweisen nehmen sie die von Jazz und
  Latin geprägte Tradition der USA und des Westens auf und formen einen Kl
 ezmer der offenen Grenzen: \"Jedes Lied eine Reise: ein wenig Balkan\, ein
  wenig Orient\, ein Hauch von Habsburg und türkischem Tanz\, die rumänis
 che Sirba neben dem jiddischen Tango. Klezmer\, sagt Ferenc Javori\, ist d
 er 'Blues des 21. Jahrhunderts'.\" Das Ensemble zelebriert das kollektive 
 Musizieren und bringt den Klezmer sogar in die hehren Konzerthallen der kl
 assischen Musik: Seine Auftritte mit dem berühmten Franz Liszt Chamber Or
 chestra waren ein durchschlagender Erfolg. Die Budapest Klezmer Band begle
 itet Tanz- und Theaterproduktionen und erhielt zahlreiche Auszeichnungen f
 ür das Bemühen um die jüdische und jiddische Musiktradition.\n\nFerenc 
 JÁVORI - Klavier\, Stimme\, Kompositionen\, Arrangements\, Leitung\, Benc
 e GAZDA - Violine\, Stimme\, István KOHÁN - Klarinette\, Bass-Klarinette
 \, Gábor TAMÁS - Posaune\, Stimme\, Anna NAGY - Akkordeon\, Gábor KISS 
 - Kontrabass\, Végh BALÁZS - Schlagzeug\, Perkussion\n\nIn Kooperation m
 it KlezMORE Festival\nMit freundlicher Unterstützung von Collegium Hungar
 icum
LOCATION:
DTSTART:20101118T200000
DTEND:20101118T210000
END:VEVENT
END:VCALENDAR