BEGIN:VCALENDAR
VERSION:2.0
PRODID:spatie/icalendar-generator
BEGIN:VEVENT
UID:b023bad9-b83a-4261-a600-ef664d4cbad2
DTSTAMP:20260420T091637Z
SUMMARY:Soyka/Stirner (Österreich) | Yegor Zabelov Trio (Weißrussland): D
 oppelkonzert
DESCRIPTION:Eintritt: € 23\n\nSoyka/Stirner erschaffen mit Harmonika und 
 Zither eine musikalische Mixtur voll natürlicher Leichtigkeit\, die eine 
 vertraute\, jedoch nicht wirklich bekannte Duftigkeit verströmt\, für di
 e jede/r ParfümherstellerIn alles geben würde.\n\nWalther Soyka – Harm
 onika\, Karl Stirner – Zither\n\nIm neuen Projekt zeigt Yegor Zabelov di
 e kreativen Möglichkeiten als Musiker und Komponist. Die Musik beruht auf
  sich wiederholenden Pattern\, bei denen das Akkordeon die Rhythmik und Ha
 rmonik vorgibt und übernimmt. Ein rhythmisch-melodisches Feuerwerk entfac
 ht sich bei diesem Trio.\n\nYegor Zabelov – Akkordeon\, Alexander Efimov
  – Kontrabass\, Vladimir Berger – Schlagzeug\n\nIn Koproduktion mit [A
 kkordeonfestival 18](http://akkordeonfestival.at/Home/Akkordeonfestival-Wi
 en)
LOCATION:
DTSTART:20180310T193000
DTEND:20180310T203000
END:VEVENT
END:VCALENDAR