BEGIN:VCALENDAR
VERSION:2.0
PRODID:spatie/icalendar-generator
BEGIN:VEVENT
UID:b01d59d5-b7a4-41fb-a16c-95c0b8e9ac22
DTSTAMP:20260421T151006Z
SUMMARY:Giorgio Conte (IT)
DESCRIPTION:Giorgio Conte ist nicht mit seinem Bruder Paolo zu verwechseln.
  Wo dieser den großen Auftritt liebt\, überzeugt Giorgio mit feinem Unde
 rstatement. Ein leiser Erzähler\, ein Poet mit trockener Selbstironie. Se
 ine Lieder wirken beiläufig und sind doch präzise gebaut\, voller Bilder
 \, kleiner Geschichten und eleganter Pointen.\n\nAufgewachsen in Asti im P
 iemont\, geprägt von Chanson\, Jazz und italienischer Volksmusik\, schrei
 bt er zunächst gemeinsam mit seinem Bruder Lieder und arbeitet gleichzeit
 ig als Anwalt. Lange führt er dieses Doppelleben zwischen Kanzlei und Bü
 hne\, verfasst Songs für Kolleginnen wie Mina\, Milva oder Ornella Vanoni
  und tritt immer wieder selbst auf. Erst Anfang der 1990er Jahre entscheid
 et er sich ganz für die Musik.\n\nSeither pflegt Giorgio Conte seinen unv
 erwechselbaren Stil zwischen italienischem Chanson\, Swing und Jazz. Seine
  Lieder erzählen von Reisenden\, Alltagsbeobachtungen und leisen Absurdit
 äten\, mit Nostalgie\, Ironie und viel Wärme. Auf der Bühne sucht er di
 e Nähe zum Publikum\, begleitet von einer fein abgestimmten Band\, die vi
 el Raum für spontane Momente lässt. Ein Abend voller Charme\, Humor und 
 gelassener Poesie.\n\nhttps://www.weltenklang.at/artists/giorgio-conte-1/
LOCATION:
DTSTART:20260920T183000
DTEND:20260920T193000
END:VEVENT
END:VCALENDAR