BEGIN:VCALENDAR
VERSION:2.0
PRODID:spatie/icalendar-generator
BEGIN:VEVENT
UID:afe539dd-f1e6-45e7-a867-47096e970b01
DTSTAMP:20260420T113243Z
SUMMARY:Aufstrich (Österreich): Explodierende Musikenergie
DESCRIPTION:Auf und unterm Strich - Aufstrich\, das ist geballtes Talent un
 d taktgenau explodierende musikalische Energie: eine fünfköpfige Hydra\,
  in der die Kraft eines Symphonieorchesters steckt. Und der Groove einer B
 luesband\, der Swing einer Jazz-Combo\, der Charme eines Jodeltrios\, die 
 Eleganz einer Tangokapelle\, die Virtuosität eines A-capella-Chors. Aufst
 rich produziert die unterschiedlichsten Töne - und hat einen Ton: einen e
 inzigartigen\, unverwechselbaren Ensembleklang. Niemand sonst entfaltet so
 lchen Schwung und strahlenden Frohsinn\, soviel sinnliche Heiterkeit\, hem
 mungsloses Tanzdelirium und hintersinnige Ironie wie Aufstrich. Und doch i
 st untergründig immer der melancholische Grundton hör- und spürbar\, de
 r die Wiener Kunst seit jeher auszeichnet. Das ist der Aufstrich-Ton. Unm
 öglich\, davon nicht berührt zu werden. Unterm Strich: Man hat es nicht 
 leicht mit dem Aufstrich. Man kann ihn nicht einfach so mögen: Man muss i
 hn lieben. (Christian Schneider)\n\nJulia LACHERSTORFER - Violine\, Stimme
 \nElisabeth HASENBURGER - Violine\, Stimme\nHorst LACKINGER - Saxophon\, S
 timme\nIrene FROSCHAUER - Viola\, Stimme\nLaura WÖSCH - Kontrabass\, Stim
 me
LOCATION:
DTSTART:20100325T200000
DTEND:20100325T210000
END:VEVENT
END:VCALENDAR