BEGIN:VCALENDAR
VERSION:2.0
PRODID:spatie/icalendar-generator
BEGIN:VEVENT
UID:ad3071f2-2ae3-4552-be38-e444668b5685
DTSTAMP:20260420T092036Z
SUMMARY:Nguyen Lê & Saiyuki (Frankreich\, Japan\, Indien): Die Reise nach 
 Westen
DESCRIPTION:Neben Bill Frisell ist mit dem in Frankreich geborenen vietname
 sischen Gitarristen Nguyen Le ein weiterer Meister und Grenzgänger seines
  Instrumentes zum ersten Mal zu Gast in der SARGFABRIK. Le ist eine person
 ifizierte Fusion der Kulturen. In seinem Gitarrenspiel fließen die unters
 chiedlichsten Strömungen der Kulturen ineinander: West und Ost\, Mitte un
 d Pole\, Süd und Nord - dargebracht vor allem in der Sprache des Jazz\, o
 ft aber mit hochgespannter Rock-Bissigkeit\, dann wiederum wie mit Ruf-Mot
 iven\, die aus buddhistischen Ritualen herüberwehen. Mit seinem brandneue
 n Projekt Saiyuki zeichnet Nyguen Le gemeinsam mit seinen MitmusikerInnen 
 Mieko Miyazaki an der Koto (eine mit Seide bespannte Wölbbrett-Zither) un
 d Prabhu Edourad an der Tabla ein Asien ohne Grenzen. Alle drei sind mit e
 iner doppelten kulturellen Identität ausgestattet\, kommen sowohl aus Tra
 dition als auch Moderne. Und alle sind sie VirtuosInnen auf ihren Instrume
 nten\, weben von Vietnam über Japan nach Indien die musikalischen Seidenf
 äden. Ihr Programm basiert auf Eigenkompositionen\, Neuinterpretationen t
 raditioneller Musik und elektronischen Soundlandschaften. Wir treffen hier
  auf wahre WeltmusikerInnen\, Connaisseure in Sachen Stil und Technik\, ne
 ugierig auf neue Begegnungen und offen für die Möglichkeiten\, die sich 
 ihnen in unserer Welt bieten! Saiyuki\, der Name der Band ist die japanisc
 he Bezeichnung für \"Die Reise nach Westen\"\, dem weltberühmten Roman C
 hinas aus dem 16. Jahrhundert von Wu Cheng'en. Diese klassische Erzählung
  basiert auf der wahren Geschichte des chinesischen Mönches Xuanzang\, de
 r nach Indien reiste\, um religiöse buddhistische Texte zu suchen. Im fan
 tastischen Volksepos wird Sun Wukong zu seinem wichtigen Begleiter: Der Af
 fenkönig ist ein listiger\, ambivalenter Charakter\, besessen vom Geheimn
 is der Unsterblichkeit\, er ist voller Magie\, kann auf einer Wolke fliege
 n oder sich verschiedenartig winzigklein bis riesiggroß verwandeln. Über
  China und Japan hinaus war \"Die Reise nach Westen\" stets eine Quelle de
 r Inspiration für diverse Bearbeitungen bis hin zum heutigen Tag und eine
 r Pop-Oper von Damon Albarn\, Mangas\, TV-Serien oder Videospiele. Nguyen 
 Lê möchte \"Die Reise nach Westen\" heranziehen als Abbild jener realen 
 oder fiktiven Reisen\, die die Bandmitglieder ihre Musik erschaffen lässt
 . Wie die Suche nach einem Geheimnis\, die uns auf ihren Abenteuern sonst 
 wohin bringt\, jedoch erlaubt\, unseren wertvollsten Schatz zu bewahren\, 
 unsere Identität.\n\nNguyen LÊ - Gitarre\nPrabhu EDOURAD - Tabla\nMieko 
 MIYAZAKI - Koto\n\nIn Kooperation mit Salam Orient 2009\nMit freundlicher 
 Unterstützung von Institut Francais
LOCATION:
DTSTART:20091105T200000
DTEND:20091105T210000
END:VEVENT
END:VCALENDAR