BEGIN:VCALENDAR
VERSION:2.0
PRODID:spatie/icalendar-generator
BEGIN:VEVENT
UID:a6fe2224-8b42-464a-b09d-e1bdb881dabe
DTSTAMP:20260420T091637Z
SUMMARY:Pandit Shubendra Rao & Saskia Rao-De Haas (Indien\, Niederlande): D
 uo mit Sitar & Indian Cello in Begleitung von Nihar Mehta (Tabla)
DESCRIPTION:Eintritt: € 27\n\nDer Komponist und Sitar-Virtuose Shubendra 
 Rao ist einer der großen jungen Top-Solisten seiner Heimat. Gemeinsam mit
  seiner Lebensgefährtin Saskia Rao-de Haas aus Holland bildet er ein bish
 er einmaliges Duo mit Sitar und Cello.\nShubendra ist ein nachdenklicher u
 nd zugleich offener Mensch\, der mithilfe seines Instrumentes Brücken zu 
 vielen Kulturen schlägt. Als einer der begabtesten Schüler von Pandit Ra
 vi Shankar gilt er bei Kritiker_innen und Kenner_innen als würdiger Nachf
 olger in der Tradition seines Gurus. Er trat in der Carnegie Hall und dem 
 Kennedy Center ebenso auf wie im Théatre de la Ville oder im Sydney Opera
  House. Die indische Presse preist die Auftritte des Duos mit den Worten 
 „taking Indian music into a brave\, new era“.\n\nShubendra Rao - Sitar
 \nSaskia Rao-de Haas - Cello\nNihar Mehta - Tabla\n\nIn Kooperation mit [S
 alam Orient](http://salam-orient.at/)
LOCATION:
DTSTART:20161027T193000
DTEND:20161027T203000
END:VEVENT
END:VCALENDAR