BEGIN:VCALENDAR
VERSION:2.0
PRODID:spatie/icalendar-generator
BEGIN:VEVENT
UID:a141244a-5fba-43bf-aeeb-21b08415e52e
DTSTAMP:20260424T164217Z
SUMMARY:„Sir“ Oliver Mally & Peter Schneider (A/D): Almost There / Albu
 m-Release
DESCRIPTION:Zwei akustische Gitarren\, eine Mundharmonika und die raue\, kr
 aftvolle Stimme von „Sir“ Oliver Mally – das sind die Zutaten für e
 in beeindruckendes musikalisches Erlebnis\, das die beiden Bluesexperten i
 hrem Publikum bieten. In ihrer einzigartigen Kombination schaffen es Mally
  & Schneider\, die Zuhörer von der ersten Note an in ihren Bann zu ziehen
  und mit ihrer Musik zu begeistern.\n\nMally ist ein genialer Geschichtene
 rzähler\, der in seinen Songs mit warmer sonorer Stimme den Zuhörer in s
 eine wilde Blueswelt entführt und sich raffiniert an der Gitarre begleite
 t. Was Peter Schneider wie beiläufig von den Gitarrensaiten pflückt\, is
 t ein besonderer Genuss. In jedem Ton ist die Klasse des Münchner Gitarri
 sten zu hören!\n\nMit „Almost There“ präsentieren Mally und Schneide
 r stolz ihr zweites gemeinsames Album. Es ist eine musikalische Entdeckung
 sreise in die tiefsten Gefilde des Blues\, inspiriert von der unwiderstehl
 ichen Magie\, die John Lee Hooker und Alan Wilson bereits in Mally & Schne
 ider`s Jugend entfacht haben. Mit rauen One Chord Blues Stücken\, absolut
  spontanem Interagieren und sehr sparsamem Slow Blues kommen sie diesem Vi
 be sehr nahe.\n\n„Raw\, convincing\, and surprisingly individual\, spont
 aneous and inspiring - just how the best blues should be. Telepathy is wha
 t the two seem to have with each other... Listen\, think and enjoy.“ - N
 orman Darwen - UK\n\n„Sir“ Oliver Mally - Gitarre\, Stimme\, Peter Sch
 neider - Gitarre\, Slide-\, Lapsteel-Gitarre\, Mundharmonika\n\nhttps://si
 r-oliver.com/
LOCATION:
DTSTART:20241018T193000
DTEND:20241018T203000
END:VEVENT
END:VCALENDAR