BEGIN:VCALENDAR
VERSION:2.0
PRODID:spatie/icalendar-generator
BEGIN:VEVENT
UID:9cfeb4c7-4794-4e40-9d97-b963ba7f61b4
DTSTAMP:20260424T120257Z
SUMMARY:Afro Arabiq Walzer Archestra (SY\, TN\, SN\, AT\, CZ): Videostream
DESCRIPTION:Das Konzert wird aufgrund des Lockdowns als Videostream angebot
 en. Den Link finden Sie am 26.11. ab 19:30 auf dieser Seite.\n\nLove in Ou
 ter Space: Sun Ra schaut auf seiner intergalaktischen Reise in Wien vorbei
 . Im Outer Space haben der Wiener Walzer und Rhythmen aus Dakar\, Tunis un
 d Damaskus ein neues Lebewesen gezeugt. Der tanzende Drache speit feurige 
 Kompositionen von Harald Huber\, Farid Al Atrash\, Ramez Jabr\, Sun Ra\, J
 ean Luc Ponty\, Johann Strauss Vater\, Janelle Monae u.a.\nDas „Afro Ara
 bic Walzer Archestra“ bringt arabische\, westafrikanische\, internationa
 le und österreichische Musiktraditionen nicht nur miteinander in Kontakt 
 sondern vollzieht künstlerische Verschmelzungen. Auf Basis der Ideen des 
 Afrofuturismus werden zukunftsträchtige Mixturen von syrischen Popsongs\,
  maghrebinischen Gnawa Rhythmen\, österreichichen Walzer Traditionen und 
 Free Jazz Passagen präsentiert und zu einer neuartigen kulturellen Melang
 e verbunden.\n\nBasma Jabr - Gesang\, Habib Samandi\, Ibou Ba\, Maria Petr
 ova - Perkussion\, Andreas Schreiber\, Florian Sighartner\, Tomáš Novák
 \, Maria Salamon - Violine\, Gregor Aufmesser -Bass\, Harald Huber - Keybo
 ards\, Komposition\, Arrangement / Special Guest: Orwa Saleh - Oud\n\nIn K
 ooperation mit [Vienna Jazz Floor](https://viennajazzfloor.at)\n\nMit eine
 m Betrag Ihrer Wahl\, einem virtuellen Eintritt\, können Sie sowohl die K
 ünstler:innen als auch unser Projekt unterstützen - entweder über den S
 penden-Button weiter unten oder eine Überweisung direkt auf unser Konto: 
 Verein für Integrative Lebensgestaltung / IBAN: AT44 1200 0006 1816 3406\
 , BIC: BJAUATWW.\n\nWir freuen uns über jeden Betrag!
LOCATION:
DTSTART:20211126T193000
DTEND:20211126T203000
END:VEVENT
END:VCALENDAR