BEGIN:VCALENDAR
VERSION:2.0
PRODID:spatie/icalendar-generator
BEGIN:VEVENT
UID:8a2a1366-50d4-4344-9142-3488e1d2e721
DTSTAMP:20260420T231728Z
SUMMARY:Abgesagt: Crossing Strings
DESCRIPTION:Die Veranstaltung musste aufgrund des Lockdowns abgesagt werden
 .\n\nEin Duo\, das auf den ersten Blick unterschiedlicher nicht sein könn
 te\, ein Duo in dem zwei scheinbar vollkommen verschiedene Welten aufeinan
 derprallen. Bestehend aus Carina Maria Linder\, die sich im zarten Alter v
 on 8 Jahren der klassischen Gitarre verschrieben hat\, es mit dem Cato Gui
 tar Duo zu beachtlichen Erfolgen bei diversen internationalen Gitarrenwett
 bewerben gebracht hat und Markus Schlesinger\, der international tourende 
 Fingerstylegitarrist und Begründer des Vienna Fingerstyle Festivals.\n\nD
 as Ergebnis ist eine facettenreiche Symbiose aus Klassik\, Jazz und popul
 ärer Musik\, sowie Eigenkompositionen\, die das Publikum in vollkommen ne
 ue und unbekannte musikalische Sphären entführen.\n\nCarina Maria Linder
 \, Markus Schlesinger - Gitarre
LOCATION:
DTSTART:20211126T193000
DTEND:20211126T203000
END:VEVENT
END:VCALENDAR