BEGIN:VCALENDAR
VERSION:2.0
PRODID:spatie/icalendar-generator
BEGIN:VEVENT
UID:86fd9ab4-2db3-4dfd-8d0f-6fccc9cd7cd5
DTSTAMP:20260419T125348Z
SUMMARY:Madame Baheux (Serbien\, Bulgarien\, Bosnien\, Ö)
DESCRIPTION:Gewinnerinnen des Austrian World Music Awards 2014! «Frauen-Po
 wer» wäre eine Untertreibung in Anbetracht dieses neuen femininen Balkan
 quintetts. Jelena Poprzan aus Serbien\, Ljubinka Jokić aus Bosnien\, Mari
 a Petrova aus Bulgarien\, DeeLinde aus Zitoll und Lina Neuner aus Wien: vi
 er Stimmen\, achtzehn Saiten\, drei Bögen plus Percussion und Drums. Witz
 ig\, spritzig\, schräg und groovy! Jung\, feminin und frech! Mitreißende
  Folk-Songs aus Bulgarien\, Serbien\, Bosnien und Mazedonien in innovative
 n Arrangements\, smarte Eigenkompositionen der Bandmitglieder und Lieder v
 on Ewan MacColl\, Bertolt Brecht\, Georg Kreisler sowie ein Lied über ung
 astliche Wiener und ihre ausländischen Gäste in experimentellem Fiktiv-W
 ienerisch. Obwohl die Musikerinnen ihre Wurzeln in Südosteuropa haben (au
 ßer «Gastarbajterka» aus Kloster Neuburg Lina Neuner) und ein Teil ihre
 s Repertoires sich dazu bekennt\, weist das Quartett sowohl in seinem Repe
 rtoire als auch in seinem künstlerischen Ausdruck weit darüber hinaus. N
 ach allen Richtungen offen zeigt es sich\, Jazz\, Rock\, kritisches Lied .
 .. in\, Serbokroatisch\, Bulgarisch\, Englisch und «Weanarisch» ... Mada
 me Baheux bringen etwas Neues auf die Bühne\, das mitreißt\, verführt\,
  zum Lachen reizt\, in Hirn\, Herz und Beine geht ..\n\nJelena Poprzan - V
 iola\, Gesang\nLjubinka Jokić - E-Gitarre\, Gesang\nDeeLinde - Cello\nLin
 a Neuner - Kontrabass\nMaria Petrova - Tupan\, Darbuka\, Schlagzeug
LOCATION:
DTSTART:20150409T200000
DTEND:20150409T210000
END:VEVENT
END:VCALENDAR