BEGIN:VCALENDAR
VERSION:2.0
PRODID:spatie/icalendar-generator
BEGIN:VEVENT
UID:8319883e-4c08-4676-89c0-e559de41dc8d
DTSTAMP:20260420T090707Z
SUMMARY:Kurdophone (Iran\, Österreich)
DESCRIPTION:Eintritt: € 21\n\nDas jüngst vom iranischen Sänger und Musi
 ker Omid Darvish gegründete Ensemble Kurdophone entstammt dem wahren kult
 urellen Schmelztiegel Wiens. Die jungen MusikerInnen kommen aus dem Iran u
 nd Österreich und bringen alte kurdische Melodien und westliche Einflüss
 e selbstverständlich in Einklang. So unterschiedlich die Musikkulturen se
 in mögen\, die KünstlerInnen haben sich auf die Suche der Gemeinsamkeite
 n gemacht und sind fündig geworden. Auf traditionellen Instrumenten wie d
 er Stachelgeige Kamantsche oder der Langhalslaute Tanbur erschafft Kurdoph
 one über Elemente aus Jazz und klassischer traditioneller Musik etwas Neu
 es und Eigenständiges. Die von der Tanbur getragenen Melodien präsentier
 en sich vielfältig - von sinnlicher Ruhe bis zum lebenslustigen Tanz reic
 ht das musikalische Erlebnis. Bei Salam Orient feiert das junge Musikensem
 ble seine Premiere.\n\nOmid Darvish - Tanbur\, Gesang\, Sarvin Hazin - Kam
 antsche\, Violine\, Amir Ahmadi - Klavier\, Lukas Aichinger - Schlagzeug\,
  Helene Glüxam - Kontrabass\n\nIn Koproduktion mit  http://salam-orient
 .at/
LOCATION:
DTSTART:20171023T193000
DTEND:20171023T203000
END:VEVENT
END:VCALENDAR