BEGIN:VCALENDAR
VERSION:2.0
PRODID:spatie/icalendar-generator
BEGIN:VEVENT
UID:7b53b37d-9a78-4c09-b089-b0f67de1823f
DTSTAMP:20260425T165025Z
SUMMARY:Frauenflohmarkt
DESCRIPTION:Es ist wieder soweit! Wir\, Theresa und Sam\, dürfen den Fraue
 nflohmarkt in einem neuen Glanz erstrahlen lassen. Das Motto: Stöbern\, E
 ntdecken\, Plaudern und Vernetzen!\n\nWO: im Seminarraum der Sargfabrik\n\
 nEs erwartet euch ein vielseitiges Angebot in entspannter Atmosphäre. Bei
  Fragen sind wir jederzeit per Mail erreichbar: frauenflohmarkt.wien@gmail
 .com.\n\nWir freuen uns auf euch!
LOCATION:
DTSTART:20230423T130000
DTEND:20230423T180000
END:VEVENT
END:VCALENDAR