BEGIN:VCALENDAR
VERSION:2.0
PRODID:spatie/icalendar-generator
BEGIN:VEVENT
UID:72d057ca-3110-4ce5-bac0-f9131fd31b06
DTSTAMP:20260420T090213Z
SUMMARY:Bananz (A): Philosophen im Saustall
DESCRIPTION:Bananz singt mit eindringlicher Stimme übers Verändern\, sich
  selber Fremdsein. Über Leidiges und Schönes\, auch dort\, wo’s dunkel
  ist. Manchmal weinerlich\, manchmal sudernd\, dann auch wieder himmelhoch
  jauchzend. Darüber\, was ist\, woran er sich erinnert und ob’s wichtig
  war oder nicht. „Samma ned olle Patienten in der Praxis des Lebens?“ 
 fragt Bananz und man weiss\, was er damit meint.\nDer in Niederösterreich
  geborene Musiker und gelernte Elektriker kennt das Leben in Fabriken und 
 Werkstätten. Er hat beobachtet\, in die Milieus gespürt\, viel zugehört
  und schreibt nun darüber. Hacklerlieder\, Verbrecherlieder\, Liebesliede
 r. Verklärte Lyrik trifft auf banale Grobschlächtigkeit eines singenden 
 Arbeiters. Eine Mischung aus Tom Waits und Element of Crime\, aber eben un
 verkennbar österreichisch\, wie ein wildgewordener Qualtinger der Gegenwa
 rt.\nSeine hochkarätige Band - ohne Bass aber dafür mit drei Bläsern - 
 unterstreicht den subtilen Witz von Bananz. Es klingt wie eine Mischung au
 s New Orleans Jazz und Balkan Style. Trashig krachend. Feinfühlig umarmen
 d. Manchmal einfach wild und falsch.\n\nBananz - Stimme\, Gitarre\, Titus 
 Vadon - Schlagzeug\, Martin Schiske - Posaune\, Manfred Franzmeier - Saxop
 hon\, Dario Schwärzler - Tuba\n\nhttps://www.bananz.com/
LOCATION:
DTSTART:20230413T193000
DTEND:20230413T203000
END:VEVENT
END:VCALENDAR