BEGIN:VCALENDAR
VERSION:2.0
PRODID:spatie/icalendar-generator
BEGIN:VEVENT
UID:72b38043-dcdc-4779-b06f-5e340833e5fa
DTSTAMP:20260420T092203Z
SUMMARY:LJILJANA BUTTLER & MOSTAR SEVDAH REUNION (Bosnien-Herzegowina)
DESCRIPTION:Ljiljana BUTTLER - Gesang Ilijaz DELIC - Gesang Mustafa SANTIC 
 - Gesang\, Akkordeon\, Klarinette Nedjo KOVACEVIC - Gesang\, Violine Miso 
 PETROVIC - Gitarre Sandi DURAKOVIC - Gitarre Kosta LATINOVIC - Bass Sejo A
 VDIC - Schlagzeug Ljiljana Buttler is one of the great re-discovered voice
 s of Eastern Europe. Deep\, dark and distinctive. Her recording with the M
 ostar Sevdah Reunion band\, \"The Mother of Gypsy Soul\" is one of my CDs 
 of the year and impresses everyone I've played it to. Simon Broughton (Son
 glines) A voice that is earthier than earth with an intensity that goes ri
 ght to the heart. Emotionally moving and touching music that has all the e
 lements of artful sensuality. Amazing. (Rabih Abou-Khalil) ...You told me 
 that I am the greatest! After this CD of Ljiljana I doubt it. She is my fa
 vourite lady and I am glad that she is back. World Music scene will be ric
 her for one more Balkan diamond. (Saban Bajramovic) 15 Jahre lang war Ljil
 jana Petrovic wie vom Erdboden verschluckt\, jene legendäre Romasängerin
 \, die in den 60er und 70er Jahren der Magnet der Belgrader Café- und Res
 taurantstraße Skadarlija war. Dragi Sestic\, Mitbegründer und Produzent 
 der Mostar Sevdah Reunion\, \"entdeckte\" sie im Jahr 2000 wieder - sie le
 bte unter dem Namen Buttler als Putzfrau in Deutschland. Es bedurfte einig
 en Geschicks und Überredungskünste\, Ljiljana Buttler zurück auf die B
 ühne und ins Studio zu bringen. Ihr Comeback jedoch bescherte ihr mit 58 
 Jahren den unverhofften Rang eines World-Superstars. Ganz gleich ob sie Vo
 lkslieder\, Schlager oder zeitgenössische Chansons sang\, stets prägte s
 ie diese Songs mit ihrem unverwechselbaren dunklen Soul\, ihre rauchige Al
 tstimme war reifer und ausdrucksstärker als je zuvor. Bald regnete es die
  unvermeidlichen Attribute \"Gypsy Ella Fitzgerald\" und \"Billie Holiday 
 of Gypsy Music\"\, \"Mother of Gypsy Soul\" sparte wenigstens die Vergleic
 he aus. In der Mostar Sevdah Reunion fand sie die perfekte Begleitband\, d
 ie mit einer gemeinsamen CD bereits die serbische Gypsy-Legende Šaban Baj
 ramovic einem westlichen Publikum näher gebracht hatte. Die Gruppe verein
 t muslimische\, kroatische und serbische Musiker aus Mostar\, einer Stadt\
 , die noch immer von Grenzen des Hasses durchzogen ist. Dass das nicht nur
  ein nett gemeintes Friedensprojekt ist\, dafür bürgt die Qualität der 
 Band\, die bosnischen Sevdalinke (Liebesliedern)\, aber auch Musik aus dem
  gesamten postjugoslawischen Raum ein unverwechselbar zeitgemäßes Profil
  gibt. Ljiljana Buttler lebte selbst lange mit ihrer Familie in Bosnien\, 
 mit Ilijaz Delic\, dem Leadvokalistin der MSR\, hatte sie früher oft in d
 er Skadarlija in Belgrad gesungen. Unbeeindruckt vom nationalistischen Ove
 rkill\, lebt in ihnen das Alte Jugoslawien weiter.
LOCATION:
DTSTART:20050421T200000
DTEND:20050421T210000
END:VEVENT
END:VCALENDAR