BEGIN:VCALENDAR
VERSION:2.0
PRODID:spatie/icalendar-generator
BEGIN:VEVENT
UID:7208f90f-91b0-4921-937e-9aa1eb23c2ca
DTSTAMP:20260420T090707Z
SUMMARY:Isabel Frey Trio (A)
DESCRIPTION:Das Isabel Frey Trio\, rundum die Wiener-jüdische Sängerin Is
 abel Frey\, beschäftigt sich mit jiddischer Musik und deren Kontinuität 
 über die Zeit hinaus. Gemeinsam mit dem steirischen Klezmer-Klarinettiste
 n Moritz Weiß und dem mazedonischen Akkordeonisten Ivan Trenev singt Isab
 el Frey jiddische Lieder aus verschiedensten Orten und Epochen und schafft
  damit neue Bezüge zu Vergangenheit und Gegenwart jüdischer Kultur.\nIhr
  Interesse in die Musik der jiddischen Arbeiterinnenbewegung und des jüdi
 schen Widerstands gegen die Nazis\, mit dem sie sich seit Jahren als Solok
 ünstlerin beschäftigt\, wird im Trio sowohl musikalisch als auch themati
 sch erweitert. Neben Liedern mit revolutionären Inhalten spielt das Trio 
 auch Musik aus der jiddischen Theaterszene\, der jiddischistischen Bewegun
 g in der Nachkriegszeit oder auch Eigenkompositionen und Vertonungen von u
 nbekannteren jiddischen Dichter*innen.\nJenseits von Kitsch und Nostalgie 
 schafft das Trio so ein musikalisches Erlebnis in dem Jiddisch nicht einer
  verlorenen Welt der Vergangenheit\, sondern Teil einer lebendigen kulture
 llen Tradition ist.\n\nIsabel Frey – Stimme\, Gitarre\, Ivan Trenev – 
 Akkordeon\, Moritz Weiß - Bassklarinette\, Klarinette\n\nDas Konzert wurd
 e vom Frühjahr auf diesen Termin verschoben. Bereits gekaufte Tickets beh
 alten ihre Gültigkeit.\n\nIn Koproduktion mit [KlezMORE Festival Vienna](
 http://klezmore-vienna.at/#data_abonnement=-1&data_year=2022&data_event_ca
 tegory=-1&searchTerm=&data_mode=DATE&data_pagenumber=0&page_header=2022)
LOCATION:
DTSTART:20221109T193000
DTEND:20221109T203000
END:VEVENT
END:VCALENDAR